Workbook

Sheet Sheet2
E1: Bệnh viện Nguyễn Trãi
E2: Khoa Xét Nghiệm
E3: Thành phố Hồ Chí Minh,ngày 18 tháng 11 năm 2022
E5: PHIẾU ĐỀ XUẤT
E6: HÓA CHẤT VẬT TƯ NĂM 2023 | H6: Phần này Nhà thầu phải điền đầy đủ thông tin, không tahy đổi thì điền lại thông tin của Bệnh viện
C8: LÔ | D8: STT | E8: Tên hàng hoá | F8: Đơn vị tính | G8: Số lượng | H8: Sô lượng cập nhật mới | I8: Đơn vị tính (nhỏ nhất có thể tính tiền của Nhà thầu) | J8: Đơn giá ứng với đơn vị tính | K8: Đơn vị | L8: Tên tiếng việt | M8: Tên tiếng anh | N8: Mã hàng công ty quản lý | O8: Mã 5086 (nếu có) | P8: Mã kê khai giá | Q8: Giá kê khai (niêm yết báo giá) | R8: Tổng dự toán giá dự kiến
A9: LÔ 1 | B9: Lô 1 | C9: HCTM-0001 | D9: 1 | E9: HÓA CHẤT Hệ thống định danh và kháng sinh đồ tự động hoặc tương đương | K9: SISC | L9: 8670601875 | R9: =H9*J9 -> 0
B10: Lô 1 | C10: HCTM-0002 | D10: 2 | E10: Định danh vi khuẩn Gram âm | K10: Công ty CP Thiết Bị Sài Gòn | R10: =H10*J10 -> 0
B11: Lô 1 | C11: HCTM-0003 | D11: 3 | E11: - Panel định danh vi khuẩn Gram âm | F11: 25 panel/ hộp | G11: 20 | H11: 625 | I11: Thẻ | J11: 128000 | K11: Công ty CP Thiết Bị Sài Gòn | L11: Thẻ định danh gram âm | M11: BD Phoenix™ NID | N11: 448007 | O11: Không có | P11: KKG-0102-00292 | R11: =H11*J11 -> 80000000
B12: Lô 1 | C12: HCTM-0004 | D12: 4 | E12: - Canh trường định danh | F12: 100 tube/ hộp | H12: 0 | K12: Công ty CP Thiết Bị Sài Gòn | R12: =H12*J12 -> 0
B13: Lô 1 | C13: HCTM-0005 | D13: 5 | E13: Định danh vi khuẩn Gram dương | H13: 0 | K13: Công ty CP Thiết Bị Sài Gòn | R13: =H13*J13 -> 0
B14: Lô 1 | C14: HCTM-0006 | D14: 6 | E14: - Panel định danh vi khuẩn Gram dương | F14: 25 panel/ hộp | G14: 20 | H14: 625 | I14: Thẻ | J14: 128000 | K14: Công ty CP Thiết Bị Sài Gòn | L14: Thẻ định danh gram dương | M14: BD Phoenix™ PID | N14: 448008 | O14: Không có | P14: KKG-0102-00293 | R14: =H14*J14 -> 80000000
B15: Lô 1 | C15: HCTM-0007 | D15: 7 | E15: - Canh trường định danh | F15: 100 tube/ hộp | H15: 0 | K15: Công ty CP Thiết Bị Sài Gòn | R15: =H15*J15 -> 0
B16: Lô 1 | C16: HCTM-0008 | D16: 8 | E16: Định danh nấm | H16: 0 | K16: Công ty CP Thiết Bị Sài Gòn | R16: =H16*J16 -> 0
B17: Lô 1 | C17: HCTM-0009 | D17: 9 | E17: - Panel định danh nấm | F17: 25 panel/ hộp | G17: 10 | H17: 325 | I17: Thẻ | J17: 128000 | K17: Công ty CP Thiết Bị Sài Gòn | L17: Thẻ định danh nấm men | M17: BD Phoenix™ Yeast ID | N17: 448316 | O17: Không có | P17: KKG-0102-00288 | R17: =H17*J17 -> 41600000
B18: Lô 1 | C18: HCTM-0010 | D18: 10 | E18: - Canh trường định danh | F18: 100 tube/ hộp | H18: 0 | K18: Công ty CP Thiết Bị Sài Gòn | R18: =H18*J18 -> 0
B19: Lô 1 | C19: HCTM-0011 | D19: 11 | E19: Kháng sinh đồ Gram dương | H19: 0 | K19: Công ty CP Thiết Bị Sài Gòn | R19: =H19*J19 -> 0
B20: Lô 1 | C20: HCTM-0012 | D20: 12 | E20: - Panel kháng sinh đồ Gram dương | F20: 25 panel/ hộp | G20: 20 | H20: 625 | I20: Thẻ | J20: 116000 | K20: Công ty CP Thiết Bị Sài Gòn | L20: Thẻ kháng sinh đồ gram dương | M20: BD Phoenix™ PMIC- 84 | N20: 448420 | O20: Không có | P20: KKG-0102-00289 | R20: =H20*J20 -> 72500000
B21: Lô 1 | C21: HCTM-0013 | D21: 13 | E21: - Canh trường định danh | F21: 100 tube/ hộp | H21: 0 | K21: Công ty CP Thiết Bị Sài Gòn | R21: =H21*J21 -> 0
B22: Lô 1 | C22: HCTM-0014 | D22: 14 | E22: - Canh trường làm kháng sinh đồ cho vi khuẩn gram âm và gram dương | F22: 100 tube/ hộp | H22: 0 | K22: Công ty CP Thiết Bị Sài Gòn | R22: =H22*J22 -> 0
B23: Lô 1 | C23: HCTM-0015 | D23: 15 | E23: - Chỉ thị làm kháng sinh đồ cho vi khuẩn gram âm và gram dương | F23: 1.000 test/hộp | H23: 0 | K23: Công ty CP Thiết Bị Sài Gòn | R23: =H23*J23 -> 0
B24: Lô 1 | C24: HCTM-0016 | D24: 16 | E24: Kháng sinh đồ Gram âm | H24: 0 | K24: Công ty CP Thiết Bị Sài Gòn | R24: =H24*J24 -> 0
B25: Lô 1 | C25: HCTM-0017 | D25: 17 | E25: - Panel kháng sinh đồ Gram âm | F25: 25 panel/ hộp | G25: 10 | H25: 325 | I25: Thẻ | J25: 130720 | K25: Công ty CP Thiết Bị Sài Gòn | L25: Thẻ kháng sinh đồ vi khuẩn gram âm, khẳng định và phân nhóm CPO | M25: BD Phoenix™ NMIC-500 | N25: 449023 | O25: Không có | P25: KKG-0102-00307 | R25: =H25*J25 -> 42484000
B26: Lô 1 | C26: HCTM-0018 | D26: 18 | E26: - Canh trường định danh | F26: 100 tube/ hộp | H26: 0 | K26: Công ty CP Thiết Bị Sài Gòn | R26: =H26*J26 -> 0
B27: Lô 1 | C27: HCTM-0019 | D27: 19 | E27: - Canh trường làm kháng sinh đồ cho vi khuẩn gram âm và gram dương | H27: 0 | K27: Công ty CP Thiết Bị Sài Gòn | R27: =H27*J27 -> 0
B28: Lô 1 | C28: HCTM-0020 | D28: 20 | E28: - Chỉ thị làm kháng sinh đồ cho vi khuẩn gram âm và gram dương | F28: 1.000 test/ hộp | H28: 0 | K28: Công ty CP Thiết Bị Sài Gòn | R28: =H28*J28 -> 0
B29: Lô 1 | C29: HCTM-0021 | D29: 21 | E29: Định danh + kháng sinh đồ Gram âm | H29: 0 | K29: Công ty CP Thiết Bị Sài Gòn | R29: =H29*J29 -> 0
B30: Lô 1 | C30: HCTM-0022 | D30: 22 | E30: - Panel vừa định danh vừa kháng sinh đồ Gram âm | F30: 25 panel/ hộp | G30: 500 | H30: 15625 | I30: Thẻ | J30: 226000 | K30: Công ty CP Thiết Bị Sài Gòn | L30: Thẻ định danh, kháng sinh đồ vi khuẩn gram âm và khẳng định CPO | M30: BD Phoenix™ NMIC/ID-504 | N30: 449027 | O30: Không có | P30: KKG-0102-00308 | R30: =H30*J30 -> 3531250000
B31: Lô 1 | C31: HCTM-0023 | D31: 23 | E31: - Canh trường định danh | F31: 100 tube/ hộp | G31: 200 | H31: 26300 | I31: Ống | J31: 21740 | K31: Công ty CP Thiết Bị Sài Gòn | L31: Canh trường định danh - id broth | M31: BD Phoenix™ ID Broth | N31: 246001 | O31: Không có | P31: KKG-0102-00271 | R31: =H31*J31 -> 571762000
B32: Lô 1 | C32: HCTM-0024 | D32: 24 | E32: - Canh trường làm kháng sinh đồ cho vi khuẩn gram âm và gram dương | F32: 100 tube/ hộp | G32: 200 | H32: 25400 | I32: Ống | J32: 25510 | K32: Công ty CP Thiết Bị Sài Gòn | L32: Canh trường làm kháng sinh đồ-ast broth | M32: BD Phoenix™ AST Broth | N32: 246003 | O32: Không có | P32: KKG-0102-00272 | R32: =H32*J32 -> 647954000
B33: Lô 1 | C33: HCTM-0025 | D33: 25 | E33: - Chỉ thị làm kháng sinh đồ cho vi khuẩn gram âm và gram dương | F33: 1.000 test/ hộp | G33: 30 | H33: 260 | I33: Ống | J33: 343000 | K33: Công ty CP Thiết Bị Sài Gòn | L33: Chỉ thị kháng sinh đồ ast indicator | M33: BD Phoenix™ AST Indicator Solution | N33: 246004 | O33: Không có | P33: KKG-0102-00273 | R33: =H33*J33 -> 89180000
B34: Lô 1 | C34: HCTM-0026 | D34: 26 | E34: Định danh + kháng sinh đồ Gram dương | H34: 0 | K34: Công ty CP Thiết Bị Sài Gòn | R34: =H34*J34 -> 0
B35: Lô 1 | C35: HCTM-0027 | D35: 27 | E35: - Panel vừa định danh vừa kháng sinh đồ Gram dương | F35: 25 panel/ hộp | G35: 250 | H35: 7875 | I35: Thẻ | J35: 226000 | K35: Công ty CP Thiết Bị Sài Gòn | L35: Thẻ định danh, kháng sinh đồ vi khuần gram dương | M35: BD Phoenix™ PMIC/ID-95 | N35: 448614 | O35: Không có | P35: KKG-0102-00310 | R35: =H35*J35 -> 1779750000
B36: Lô 1 | C36: HCTM-0028 | D36: 28 | E36: - Canh trường định danh | F36: 100 tube/ hộp | H36: 0 | K36: Công ty CP Thiết Bị Sài Gòn | R36: =H36*J36 -> 0
B37: Lô 1 | C37: HCTM-0029 | D37: 29 | E37: - Canh trường làm kháng sinh đồ cho vi khuẩn gram âm và gram dương | F37: 100 tube/ hộp | H37: 0 | K37: Công ty CP Thiết Bị Sài Gòn | R37: =H37*J37 -> 0
B38: Lô 1 | C38: HCTM-0030 | D38: 30 | E38: - Chỉ thị làm kháng sinh đồ cho vi khuẩn gram âm và gram dương | F38: 1.000 test/ hộp | H38: 0 | K38: Công ty CP Thiết Bị Sài Gòn | R38: =H38*J38 -> 0
B39: Lô 1 | C39: HCTM-0031 | D39: 31 | E39: Định danh + kháng sinh đồ Streptoccocus | H39: 0 | K39: Công ty CP Thiết Bị Sài Gòn | R39: =H39*J39 -> 0
B40: Lô 1 | C40: HCTM-0032 | D40: 32 | E40: - Panel vừa định danh vừa kháng sinh đồ Streptoccocus | F40: 25 panel/ hộp | G40: 10 | H40: 325 | I40: Thẻ | J40: 226000 | K40: Công ty CP Thiết Bị Sài Gòn | L40: Thẻ định danh, kháng sinh đồ dành cho liên cầu khuẩn | M40: BD Phoenix™ SMIC/ID-2 | N40: 448851 | O40: Không có | P40: KKG-0102-00291 | R40: =H40*J40 -> 73450000
B41: Lô 1 | C41: HCTM-0033 | D41: 33 | E41: - Canh trường định danh | F41: 100 tube/ hộp | H41: 0 | K41: Công ty CP Thiết Bị Sài Gòn | R41: =H41*J41 -> 0
B42: Lô 1 | C42: HCTM-0034 | D42: 34 | E42: - Canh trường làm kháng sinh đồ dành cho vi khuẩn Streptoccocus | F42: 100 tube/ hộp | G42: 5 | H42: 320 | I42: Ống | J42: 30000 | K42: Công ty CP Thiết Bị Sài Gòn | L42: Canh trường làm kháng sinh đồ dành cho liên cầu khuẩn ast-s broth | M42: BD Phoenix™ AST-S Broth | N42: 246007 | O42: Không có | P42: KKG-0102-00274 | R42: =H42*J42 -> 9600000
...

Sheet MAU BAO GIA
G2: Ghi chú thực hiện | H2: Giá chào là giá dự toán
A3: Tên đơn vị | H3: Nhóm TBYT | I3: N1/N2/N3/N4/N5/N6
A4: Thông tin liên hệ 1 | H4: Loại TBYT | I4: A/B/C/D
A5: Thông tin liên hệ 2
B7: Mã Công ty | C7: STT | D7: Lô | E7: Mã BV | F7: Tên hàng hóa - Tiếng việt | G7: Tên thương mại | H7: Đơn vị tính (nhỏ nhất có thể tính tiền của Nhà thầu) | I7: Đơn giá ứng với đơn vị tính | J7: Quy cách đóng gói | K7: Hãng sản xuất | L7: Nước sản xuất | M7: Hãng chủ sở hữu | N7: Nước chủ sở hữu | O7: Mã hàng công ty quản lý | P7: Mã 5086 (nếu có) | Q7: Mã kê khai giá | R7: Giá kê khai (niêm yết báo giá) | S7: Nhóm TBYT | T7: Loại TBYT | U7: Ghi chú | V7: Còn hàng cung cấp không?

Sheet Trang_tính1
C7: Mã Công ty | D7: STT | E7: Lô | F7: Mã BV | G7: Tên hàng hóa - Tiếng việt | H7: Tên thương mại | I7: Đơn vị tính (nhỏ nhất có thể tính tiền của Nhà thầu) | J7: Số lượng yêu cầu | K7: Số lượng yêu cầu | L7: Đơn giá ứng với đơn vị tính | M7: Thành tiền | N7: Quy cách đóng gói | O7: Hãng sản xuất | P7: Nước sản xuất | Q7: Hãng chủ sở hữu | R7: Nước chủ sở hữu | S7: Mã hàng công ty quản lý | T7: Mã 5086 (nếu có) | U7: Mã kê khai giá | V7: Giá kê khai (niêm yết báo giá) | W7: Nhóm TBYT | X7: Loại TBYT | Y7: Ghi chú
C8: SISC | D8: 0 | E8: Lô 1 | F8: HCTM-0001 | G8: Hệ thống định danh và kháng sinh đồ tự động hoặc tương đương | I8: =SUM(M9:M22) -> 8670601875
A9: 33000 | C9: SISC | D9: 1 | E9: Lô 1 | F9: HCTM-0003 | G9: Thẻ định danh gram âm | H9: BD Phoenix™ NID | I9: Thẻ | J9: =VLOOKUP(F9,Sheet2!$C$9:$H$673,6,0) -> 625 | K9: 625 | L9: 128000 | M9: =L9*K9 -> 80000000 | N9: 25 panel/hộp | O9: Becton, Dickinson and Company | P9: USA | Q9: Becton, Dickinson and Company | R9: USA | S9: 448007 | T9: Không có | U9: KKG-0102-00292 | V9: 133590.88 | W9: 1 | X9: B
A10: 33005 | C10: SISC | D10: 2 | E10: Lô 1 | F10: HCTM-0006 | G10: Thẻ định danh gram dương | H10: BD Phoenix™ PID | I10: Thẻ | J10: =VLOOKUP(F10,Sheet2!$C$9:$H$673,6,0) -> 625 | K10: 625 | L10: 128000 | M10: =L10*K10 -> 80000000 | N10: 25 panel/hộp | O10: Becton, Dickinson and Company | P10: USA | Q10: Becton, Dickinson and Company | R10: USA | S10: 448008 | T10: Không có | U10: KKG-0102-00293 | V10: 133590.88 | W10: 1 | X10: B
A11: 33200 | C11: SISC | D11: 3 | E11: Lô 1 | F11: HCTM-0009 | G11: Thẻ định danh nấm men | H11: BD Phoenix™ Yeast ID | I11: Thẻ | J11: =VLOOKUP(F11,Sheet2!$C$9:$H$673,6,0) -> 325 | K11: 325 | L11: 128000 | M11: =L11*K11 -> 41600000 | N11: 25 panel/hộp | O11: Becton, Dickinson and Company | P11: USA | Q11: Becton, Dickinson and Company | R11: USA | S11: 448316 | T11: Không có | U11: KKG-0102-00288 | V11: 133590.88 | W11: 1 | X11: B
A12: 33205 | C12: SISC | D12: 4 | E12: Lô 1 | F12: HCTM-0012 | G12: PANEL PHOENIX PMIC 84 | H12: BD Phoenix™ PMIC- 84 | I12: Thẻ | J12: =VLOOKUP(F12,Sheet2!$C$9:$H$673,6,0) -> 625 | K12: 625 | L12: 116000 | M12: =L12*K12 -> 72500000 | N12: 25 panel/hộp | O12: Becton, Dickinson and Company | P12: USA | Q12: Becton, Dickinson and Company | R12: USA | S12: 448420 | T12: Không có | U12: KKG-0102-00289 | V12: 144422.56 | W12: 1 | X12: B
A13: 33210 | C13: SISC | D13: 5 | E13: Lô 1 | F13: HCTM-0017 | G13: Thẻ kháng sinh đồ vi khuẩn gram âm, khẳng định và phân nhóm CPO | H13: BD Phoenix™ NMIC-500 | I13: Thẻ | J13: =VLOOKUP(F13,Sheet2!$C$9:$H$673,6,0) -> 325 | K13: 325 | L13: 130720 | M13: =L13*K13 -> 42484000 | N13: 25 panel/hộp | O13: Becton, Dickinson and Company (BD) | P13: USA | Q13: Becton, Dickinson and Company (BD) | R13: USA | S13: 449023 | T13: Không có | U13: KKG-0102-00307 | V13: 144422.56 | W13: 1 | X13: B
A14: 33215 | C14: SISC | D14: 6 | E14: Lô 1 | F14: HCTM-0022 | G14: Thẻ định danh, kháng sinh đồ vi khuẩn gram âm và khẳng định CPO | H14: BD Phoenix™ NMIC/ID-504 | I14: Thẻ | J14: =VLOOKUP(F14,Sheet2!$C$9:$H$673,6,0) -> 15625 | K14: 15625 | L14: 226000 | M14: =L14*K14 -> 3531250000 | N14: 25 panel/hộp | O14: Becton, Dickinson and Company | P14: USA | Q14: Becton, Dickinson and Company | R14: USA | S14: 449027 | T14: Không có | U14: KKG-0102-00308 | V14: 234686.68 | W14: 1 | X14: B
A15: 33410 | C15: SISC | D15: 7 | E15: Lô 1 | F15: HCTM-0023 | G15: Canh trường định danh - id broth | H15: BD Phoenix™ ID Broth | I15: Ống | J15: =VLOOKUP(F15,Sheet2!$C$9:$H$673,6,0) -> 26300 | K15: 26300 | L15: 21740 | M15: =L15*K15 -> 571762000 | N15: 4.5mL/ống x 100 ống/hộp | O15: Becton, Dickinson and Company (BD), BD Diagnostic Systems | P15: USA | Q15: Becton, Dickinson and Company (BD) | R15: USA | S15: 246001 | T15: Không có | U15: KKG-0102-00271 | V15: 23468.67 | W15: 1 | X15: A
A16: 33415 | C16: SISC | D16: 8 | E16: Lô 1 | F16: HCTM-0024 | G16: Canh trường làm kháng sinh đồ-ast broth | H16: BD Phoenix™ AST Broth | I16: Ống | J16: =VLOOKUP(F16,Sheet2!$C$9:$H$673,6,0) -> 25400 | K16: 25400 | L16: 25510 | M16: =L16*K16 -> 647954000 | N16: 8 mL/ống x 100 ống/hộp | O16: Becton, Dickinson and Company (BD), BD Diagnostic Systems | P16: USA | Q16: Becton, Dickinson and Company (BD) | R16: USA | S16: 246003 | T16: Không có | U16: KKG-0102-00272 | V16: 27981.87 | W16: 1 | X16: A
A17: 33510 | C17: SISC | D17: 9 | E17: Lô 1 | F17: HCTM-0025 | G17: Chỉ thị kháng sinh đồ ast indicator | H17: BD Phoenix™ AST Indicator Solution | I17: Lọ | J17: =VLOOKUP(F17,Sheet2!$C$9:$H$673,6,0) -> 260 | K17: 260 | L17: 343000 | M17: =L17*K17 -> 89180000 | N17: 6mL/lọ x 10 lọ/hộp | O17: Becton, Dickinson and Company (BD) | P17: USA | Q17: Becton, Dickinson and Company (BD) | R17: USA | S17: 246004 | T17: Không có | U17: KKG-0102-00273 | V17: 356543 | W17: 1 | X17: A
A18: 33515 | C18: SISC | D18: 10 | E18: Lô 1 | F18: HCTM-0027 | G18: BD Phoenix PMIC/ID - 95 | H18: BD Phoenix™ PMIC/ID-95 | I18: Thẻ | J18: =VLOOKUP(F18,Sheet2!$C$9:$H$673,6,0) -> 7875 | K18: 7875 | L18: 226000 | M18: =L18*K18 -> 1779750000 | N18: 25 panel/hộp | O18: Becton, Dickinson and Company | P18: USA | Q18: Becton, Dickinson and Company | R18: USA | S18: 448614 | T18: Không có | U18: KKG-0102-00310 | V18: 234686.68 | W18: 3 | X18: B
A19: 33520 | C19: SISC | D19: 11 | E19: Lô 1 | F19: HCTM-0032 | G19: PANEL PHOENIX SMIC/ID 2 | H19: BD Phoenix™ SMIC/ID-2 | I19: Thẻ | J19: =VLOOKUP(F19,Sheet2!$C$9:$H$673,6,0) -> 325 | K19: 325 | L19: 226000 | M19: =L19*K19 -> 73450000 | N19: 25 panel/hộp | O19: Becton, Dickinson and Company | P19: USA | Q19: Becton, Dickinson and Company | R19: USA | S19: 448851 | T19: Không có | U19: KKG-0102-00291 | V19: 234686.68 | W19: 1 | X19: B
A20: 33525 | C20: SISC | D20: 12 | E20: Lô 1 | F20: HCTM-0034 | G20: Canh trường làm kháng sinh đồ dành cho liên cầu khuẩn ast-s broth | H20: BD Phoenix™ AST-S Broth | I20: Ống | J20: =VLOOKUP(F20,Sheet2!$C$9:$H$673,6,0) -> 320 | K20: 320 | L20: 30000 | M20: =L20*K20 -> 9600000 | N20: 8 mL/ ống x 100 ống/hộp | O20: Becton, Dickinson and Company (BD), BD Diagnostic Systems | P20: USA | Q20: Becton, Dickinson and Company (BD) | R20: USA | S20: 246007 | T20: Không có | U20: KKG-0102-00274 | V20: 30238.47 | W20: 1 | X20: A
... A22: 33535 | C22: SISC | D22: 14 | E22: Lô 1 | F22: HCTM-0036 | G22: Bottle Plastic Bactec Plus Aerob/F 50/Pk | H22: BD BACTEC™ Plus Aerobic/F Culture Vials | I22: Chai | J22: =VLOOKUP(F22,Sheet2!$C$9:$H$673,6,0) -> 15000 | K22: 15000 | L22: 110000 | M22: =L22*K22 -> 1650000000 | N22: 30mL/chai x 50 chai/hộp | O22: Becton Dickinson Caribe, Ltd. | P22: USA | Q22: Becton, Dickinson and Company | R22: USA | S22: 442023 | T22: Không có | U22: KKG-0102-00284 | V22: 125467.1 | W22: 1 | X22: B
A23: B84493 | C23: DKSH | D23: 37 | E23: Lô 2 | F23: HCTM-0037 | G23: Hóa chất cho máy đông máu tự động: STACOMPACT MAX hoặc tương đương | I23: =SUM(M24:M54) -> 8372677885 | J23: =VLOOKUP(F23,Sheet2!$C$9:$H$673,6,0) -> 0 | K23: 0 | M23: =L23*K23 -> 0
A24: B84494 | C24: DKSH | D24: 38 | E24: Lô 2 | F24: HCTM-0038 | G24: Hóa chất xét nghiệm PT (thời gian prothrombin) | H24: 01163 STA - NeoPTimal 5, 6 x 5 ml | I24: Hộp | J24: =VLOOKUP(F24,Sheet2!$C$9:$H$673,6,0) -> 120 | K24: 120 | L24: 2694720 | M24: =L24*K24 -> 323366400 | N24: Hộp/ 6 x 5-ml đông khô + 6 x 5-ml dung dịch đệm | O24: DIAGNOSTICA STAGO S.A.S | P24: Pháp | Q24: DIAGNOSTICA STAGO S.A.S | R24: Pháp | S24: 01163 | T24: không áp dụng | U24: KKG-1018-00756 | V24: 3.000.000 | W24: 1 | X24: C
A25: 33550 | C25: DKSH | D25: 39 | E25: Lô 2 | F25: HCTM-0039 | G25: Hóa chất xét nghiệm APTT hoạt hóa bằng Kaolin, máy đông máu tự động | H25: 00597 STA - C.K. Prest 5 6 x 5 ml | I25: Hộp | J25: =VLOOKUP(F25,Sheet2!$C$9:$H$673,6,0) -> 70 | K25: 70 | L25: 6573844 | M25: =L25*K25 -> 460169080 | N25: Hộp/6 x 5-ml đông khô + 6 x 5-ml dung dịch đệm | O25: DIAGNOSTICA STAGO S.A.S | P25: Pháp | Q25: DIAGNOSTICA STAGO S.A.S | R25: Pháp | S25: 00597 | T25: không áp dụng | U25: KKG-1018-00703 | V25: 7.100.000 | W25: 1 | X25: B
A26: 33555 | C26: DKSH | D26: 40 | E26: Lô 2 | F26: HCTM-0040 | G26: Dung dịch lỏng Canxi Clorua 0.025 M dùng cho các xét nghiệm đông máu | H26: 00367 STA - CaCl2 0.025M 24 x 15 ml | I26: Hộp | J26: =VLOOKUP(F26,Sheet2!$C$9:$H$673,6,0) -> 6 | K26: 6 | L26: 3380607 | M26: =L26*K26 -> 20283642 | N26: Hộp/24 x 15-ml | O26: DIAGNOSTICA STAGO S.A.S | P26: Pháp | Q26: DIAGNOSTICA STAGO S.A.S | R26: Pháp | S26: 00367 | T26: không áp dụng | U26: KKG-1018-00690 | V26: 4.000.000 | W26: 1 | X26: B
A27: 33560 | C27: DKSH | D27: 41 | E27: Lô 2 | F27: HCTM-0041 | G27: Nội kiểm đông máu cho các xét nghiệm đặc biệt như Yếu tố đông máu, PS, PC, ATIII | H27: 00678 STA - System Control N+P 12x2x1 ml | I27: Hộp | J27: =VLOOKUP(F27,Sheet2!$C$9:$H$673,6,0) -> 36 | K27: 36 | L27: 10560847 | M27: =L27*K27 -> 380190492 | N27: Hộp/12 x 2 x 1-ml | O27: DIAGNOSTICA STAGO S.A.S | P27: Pháp | Q27: DIAGNOSTICA STAGO S.A.S | R27: Pháp | S27: 00678 | T27: không áp dụng | U27: KKG-1018-00715 | V27: 14.275.307 | W27: 1 | X27: B
A28: 33565 | C28: DKSH | D28: 42 | E28: Lô 2 | F28: HCTM-0042 | G28: Hóa chất xét nghiệm Fibrinogen | H28: 00673 STA - Liquid Fib 12 x 4 ml | I28: Hộp | J28: =VLOOKUP(F28,Sheet2!$C$9:$H$673,6,0) -> 30 | K28: 30 | L28: 19154879 | M28: =L28*K28 -> 574646370 | N28: Hộp/12 x 4-ml | O28: DIAGNOSTICA STAGO S.A.S | P28: Pháp | Q28: DIAGNOSTICA STAGO S.A.S | R28: Pháp | S28: 00673 | T28: không áp dụng | U28: KKG-1018-00713 | V28: 21.485.000 | W28: 1 | X28: B
A29: 33570 | C29: DKSH | D29: 43 | E29: Lô 2 | F29: HCTM-0043 | G29: Cóng đo từ xét nghiệm đông máu cho máy tự động | H29: 38669 STA CUVETTE 6 x 1000 | I29: Thùng | J29: =VLOOKUP(F29,Sheet2!$C$9:$H$673,6,0) -> 25 | K29: 25 | L29: 57312470 | M29: =L29*K29 -> 1432811750 | N29: Thùng/6 x 1000 cái | O29: DIAGNOSTICA STAGO S.A.S | P29: Pháp | Q29: DIAGNOSTICA STAGO S.A.S | R29: Pháp | S29: 38669 | T29: không áp dụng | U29: KKG-1018-00740 | V29: 73.783.567 | W29: 1 | X29: A
A30: 33575 | C30: DKSH | D30: 44 | E30: Lô 2 | F30: HCTM-0044 | G30: Dung dịch pha loãng mẫu đông máu | H30: 00360 STA - Owren-Koller 24 x 15 ml | I30: Hộp | J30: =VLOOKUP(F30,Sheet2!$C$9:$H$673,6,0) -> 10 | K30: 10 | L30: 3630433 | M30: =L30*K30 -> 36304330 | N30: Hộp/24 x 15-ml | O30: DIAGNOSTICA STAGO S.A.S | P30: Pháp | Q30: DIAGNOSTICA STAGO S.A.S | R30: Pháp | S30: 00360 | T30: không áp dụng | U30: KKG-1018-00689 | V30: 4.451.129 | W30: 1 | X30: B
A31: 33580 | C31: DKSH | D31: 45 | E31: Lô 2 | F31: HCTM-0045 | G31: Hóa chất rửa máy hệ thống đông máu tự động | H31: 00973 STA - Cleaner Solution 6 x 2.5 l | I31: Thùng | J31: =VLOOKUP(F31,Sheet2!$C$9:$H$673,6,0) -> 50 | K31: 50 | L31: 7392593 | M31: =L31*K31 -> 369629650 | N31: Thùng/6 x 2500-ml | O31: Tcoag Ireland Limited | P31: Ireland | Q31: DIAGNOSTICA STAGO S.A.S | R31: Pháp | S31: 00973 | T31: không áp dụng | U31: KKG-1018-00734 | V31: 9.517.794 | W31: 3 | X31: A
A32: 33585 | C32: DKSH | D32: 46 | E32: Lô 2 | F32: HCTM-0046 | G32: Hóa chất rửa kim hệ thống máy đông máu tự động | H32: 00975 STA - Desorb U 24 x 15 ml | I32: Hộp | J32: =VLOOKUP(F32,Sheet2!$C$9:$H$673,6,0) -> 50 | K32: 50 | L32: 7953567 | M32: =L32*K32 -> 397678350 | N32: Hộp/24 x 15-ml | O32: DIAGNOSTICA STAGO S.A.S | P32: Pháp | Q32: DIAGNOSTICA STAGO S.A.S | R32: Pháp | S32: 00975 | T32: không áp dụng | U32: KKG-1018-00735 | V32: 8.300.000 | W32: 1 | X32: A
A33: 33600 | C33: DKSH | D33: 47 | E33: Lô 2 | F33: HCTM-0047 | G33: Ống khói bảo quản lọ hóa chất lọ 4 - 6 ml | H33: 00797 STA - mini Reducer 1 x 100 | I33: Hộp | J33: =VLOOKUP(F33,Sheet2!$C$9:$H$673,6,0) -> 4 | K33: 4 | L33: 4853730 | M33: =L33*K33 -> 19414920 | N33: Hộp/100 cái | O33: TCoag Deutschland GmbH | P33: Đức | Q33: DIAGNOSTICA STAGO S.A.S | R33: Pháp | S33: 00797 | T33: không áp dụng | U33: KKG-1018-00731 | V33: 6.447.727 | W33: 3 | X33: A
A34: 33605 | C34: DKSH | D34: 48 | E34: Lô 2 | F34: HCTM-0048 | G34: Ống khói bảo quản lọ hóa chất lọ 8 - 15 ml | H34: 00801 STA - maxi Reducer 1 x 100 | I34: Hộp | J34: =VLOOKUP(F34,Sheet2!$C$9:$H$673,6,0) -> 4 | K34: 4 | L34: 4853730 | M34: =L34*K34 -> 19414920 | N34: Hộp/100 cái | O34: TCoag Deutschland GmbH | P34: Đức | Q34: DIAGNOSTICA STAGO S.A.S | R34: Pháp | S34: 00801 | T34: không áp dụng | U34: KKG-1018-00732 | V34: 6.447.727 | W34: 3 | X34: A
A35: 33710 | C35: DKSH | D35: 49 | E35: Lô 2 | F35: HCTM-0049 | G35: Thanh khuấy từ cho xét nghiệm aPTT trên máy đông máu tự động | H35: 26674 RED STIRRING BAR 3,2X12,7 | I35: Gói | J35: =VLOOKUP(F35,Sheet2!$C$9:$H$673,6,0) -> 3 | K35: 3 | L35: 816931 | M35: =L35*K35 -> 2450793 | N35: Gói/ 1 cái | O35: DIAGNOSTICA STAGO S.A.S | P35: Pháp | Q35: DIAGNOSTICA STAGO S.A.S | R35: Pháp | S35: 26674 | T35: không áp dụng | U35: KKG-1018-00738 | V35: 981.695 | W35: không phân nhóm | X35: không phân loại
A36: 33715 | C36: DKSH | D36: 50 | E36: Lô 2 | F36: HCTM-0050 | G36: Thanh khuấy từ cho xét nghiệm PT trên máy đông máu tự động | H36: 27425 WHITE STIRRING BAR (2X7) | I36: Gói | J36: =VLOOKUP(F36,Sheet2!$C$9:$H$673,6,0) -> 3 | K36: 3 | L36: 894547 | M36: =L36*K36 -> 2683641 | N36: Gói/ 1 cái | O36: DIAGNOSTICA STAGO S.A.S | P36: Pháp | Q36: DIAGNOSTICA STAGO S.A.S | R36: Pháp | S36: 27425 | T36: không áp dụng | U36: KKG-1018-00739 | V36: 1.074.788 | W36: không phân nhóm | X36: không phân loại
A37: 33800 | C37: DKSH | D37: 51 | E37: Lô 2 | F37: HCTM-0051 | G37: Hóa chất xét nghiệm D-Dimer 2 kháng thể đơn dòng | H37: 00662 STA - Liatest D-Di Plus 6 x 6 ml | I37: Hộp | J37: =VLOOKUP(F37,Sheet2!$C$9:$H$673,6,0) -> 68 | K37: 68 | L37: 50163750 | M37: =L37*K37 -> 3411135000 | N37: Hộp/6 x 5-ml dung dịch đệm + 6 x 6-ml latex | O37: DIAGNOSTICA STAGO S.A.S | P37: Pháp | Q37: DIAGNOSTICA STAGO S.A.S | R37: Pháp | S37: 00662 | T37: không áp dụng | U37: KKG-1018-00709 | V37: 67.848.144 | W37: 1 | X37: B
A38: 33805 | C38: DKSH | D38: 52 | E38: Lô 2 | F38: HCTM-0052 | G38: Chất nội kiểm xét nghiệm D-Dimer | H38: 00526 STA - Liatest Control N+P 12x2x1ml | I38: Hộp | J38: =VLOOKUP(F38,Sheet2!$C$9:$H$673,6,0) -> 27 | K38: 27 | L38: 9311715 | M38: =L38*K38 -> 251416305 | N38: Hộp/12 x 2 x 1-ml | O38: DIAGNOSTICA STAGO S.A.S | P38: Pháp | Q38: DIAGNOSTICA STAGO S.A.S | R38: Pháp | S38: 00526 | T38: không áp dụng | U38: KKG-1018-00695 | V38: 12.587.757 | W38: 1 | X38: B
A39: 33810 | C39: DKSH | D39: 53 | E39: Lô 2 | F39: HCTM-0053 | G39: Xét nghiệm Staclot Protein S | H39: 00746 STA - Staclot Protein S 2 x 1 ml | I39: Hộp | J39: =VLOOKUP(F39,Sheet2!$C$9:$H$673,6,0) -> 8 | K39: 8 | L39: 15627937 | M39: =L39*K39 -> 125023496 | N39: Hộp/2 x 3 x 1-ml | O39: DIAGNOSTICA STAGO S.A.S | P39: Pháp | Q39: DIAGNOSTICA STAGO S.A.S | R39: Pháp | S39: 00746 | T39: không áp dụng | U39: KKG-1018-00727 | V39: 20.723.021 | W39: 1 | X39: B
A40: 33815 | C40: DKSH | D40: 54 | E40: Lô 2 | F40: HCTM-0054 | G40: Huyết tương mẫu người bình thường dạng đông khô dùng cho máy đông máu tự động | H40: 00675 STA - Unicalibrator 6 x 1 ml | I40: Hộp | J40: =VLOOKUP(F40,Sheet2!$C$9:$H$673,6,0) -> 3 | K40: 3 | L40: 3307500 | M40: =L40*K40 -> 9922500 | N40: Hộp/6 x 1-ml | O40: DIAGNOSTICA STAGO S.A.S | P40: Pháp | Q40: DIAGNOSTICA STAGO S.A.S | R40: Pháp | S40: 00675 | T40: không áp dụng | U40: KKG-1018-00714 | V40: 4.605.783 | W40: 1 | X40: B
A41: 33830 | C41: DKSH | D41: 55 | E41: Lô 2 | F41: HCTM-0055 | G41: Hóa chất xét nghiệm AT III | H41: 00596 STA - Stachrom AT III 4 x 3 ml | I41: Hộp | J41: =VLOOKUP(F41,Sheet2!$C$9:$H$673,6,0) -> 3 | K41: 3 | L41: 18522000 | M41: =L41*K41 -> 55566000 | N41: Hộp/4 x 3-ml đông khô + 4 x 3-ml cơ chất + 4 x 3-ml dung dịch đệm | O41: DIAGNOSTICA STAGO S.A.S | P41: Pháp | Q41: DIAGNOSTICA STAGO S.A.S | R41: Pháp | S41: 00596 | T41: không áp dụng | U41: KKG-1018-00702 | V41: 24.560.172 | W41: 1 | X41: B
A42: 33835 | C42: DKSH | D42: 56 | E42: Lô 2 | F42: HCTM-0056 | G42: Hóa chất xét nghiệm Protein C phương pháp so màu | H42: 00671 STA - Stachrom Protein C 6 x 3 ml | I42: Hộp | J42: =VLOOKUP(F42,Sheet2!$C$9:$H$673,6,0) -> 5 | K42: 5 | L42: 61354131 | M42: =L42*K42 -> 306770655 | N42: Hộp/6 x 3-ml chất kích hoạt + 6 x 6-ml cơ chất | O42: DIAGNOSTICA STAGO S.A.S | P42: Pháp | Q42: DIAGNOSTICA STAGO S.A.S | R42: Pháp | S42: 00671 | T42: không áp dụng | U42: KKG-1018-00711 | V42: 81.356.321 | W42: 1 | X42: B
A43: 33860 | C43: DKSH | D43: 57 | E43: Lô 2 | F43: HCTM-0057 | G43: Hóa chất xét nghiệm yếu tố XII Immunodef | H43: 00315 STA - ImmunoDef XII | I43: Hộp | J43: =VLOOKUP(F43,Sheet2!$C$9:$H$673,6,0) -> 1 | K43: 1 | L43: 19077660 | M43: =L43*K43 -> 19077660 | N43: Hộp/6 x 1-ml | O43: DIAGNOSTICA STAGO S.A.S | P43: Pháp | Q43: DIAGNOSTICA STAGO S.A.S | R43: Pháp | S43: 00315 | T43: không áp dụng | U43: KKG-1018-00685 | V43: 24.560.172 | W43: 1 | X43: B
A44: 33865 | C44: DKSH | D44: 58 | E44: Lô 2 | F44: HCTM-0058 | G44: Hỗn hợp huyết tương hiệu chứng cho các xét nghiệm yếu tố | H44: 00539 Pool Norm 12 x 1 ml | I44: Hộp | J44: =VLOOKUP(F44,Sheet2!$C$9:$H$673,6,0) -> 1 | K44: 1 | L44: 5096212 | M44: =L44*K44 -> 5096212 | N44: Hộp/12 x 1-ml | O44: DIAGNOSTICA STAGO S.A.S | P44: Pháp | Q44: DIAGNOSTICA STAGO S.A.S | R44: Pháp | S44: 00539 | T44: không áp dụng | U44: KKG-1018-00696 | V44: 6.447.714 | W44: 1 | X44: B
A45: 33880 | C45: DKSH | D45: 59 | E45: Lô 2 | F45: HCTM-0059 | G45: Hóa chất xét nghiệm thời gian Thrombin | H45: 00611 STA - Thrombin 12 x 2 ml | I45: Hộp | J45: =VLOOKUP(F45,Sheet2!$C$9:$H$673,6,0) -> 5 | K45: 5 | L45: 3087000 | M45: =L45*K45 -> 15435000 | N45: Hộp/12 x 2-ml | O45: DIAGNOSTICA STAGO S.A.S | P45: Pháp | Q45: DIAGNOSTICA STAGO S.A.S | R45: Pháp | S45: 00611 | T45: không áp dụng | U45: KKG-1018-00705 | V45: 4.100.000 | W45: 1 | X45: B
A46: 33885 | C46: DKSH | D46: 60 | E46: Lô 2 | F46: HCTM-0060 | G46: Hóa chất xét nghiệm yếu tố Immunodef XI | H46: 00759 STA - ImmunoDef XI 6 x 1 ml | I46: Hộp | J46: =VLOOKUP(F46,Sheet2!$C$9:$H$673,6,0) -> 1 | K46: 1 | L46: 18522000 | M46: =L46*K46 -> 18522000 | N46: Hộp/6 x 1-ml | O46: DIAGNOSTICA STAGO S.A.S | P46: Pháp | Q46: DIAGNOSTICA STAGO S.A.S | R46: Pháp | S46: 00759 | T46: không áp dụng | U46: KKG-1018-00729 | V46: 24.782.940 | W46: 1 | X46: B
A47: 34200 | C47: DKSH | D47: 61 | E47: Lô 2 | F47: HCTM-0061 | G47: Hóa chất xét nghiệm yếu tố IX Immunodef | H47: 00734 STA - ImmunoDef IX 6 x 1 ml | I47: Hộp | J47: =VLOOKUP(F47,Sheet2!$C$9:$H$673,6,0) -> 1 | K47: 1 | L47: 8428392 | M47: =L47*K47 -> 8428392 | N47: Hộp/6 x 1-ml | O47: DIAGNOSTICA STAGO S.A.S | P47: Pháp | Q47: DIAGNOSTICA STAGO S.A.S | R47: Pháp | S47: 00734 | T47: không áp dụng | U47: KKG-1018-00721 | V47: 10.131.713 | W47: 1 | X47: B
...

Sheet HC BO SUNG
A2: DANH MỤC CHI TIẾT VẬT TƯ HÓA CHẤT, THUỐC THỬ BỔ SUNG NĂM 2023
A4: STT | B4: Tên hàng hóa | C4: Đơn vị tính | D4: Số lượng yêu cầu | E4: Đơn giá | F4: Thành tiền | G4: Ghi chú
B5: HÓA CHẤT XÉT NGHIỆM MIỄN DỊCH | E5: NAM TRUNG
A6: 1 | B6: Alinity Trigger Solution | C6: Hộp | D6: 25 | E6: NAM TRUNG
A7: 2 | B7: Alinity Pre-Trigger Solution | C7: Hộp | D7: 10 | E7: NAM TRUNG
A8: 3 | B8: Alinity i-series Concentrated Wash Buffer | C8: Hộp | D8: 83 | E8: NAM TRUNG
A9: 4 | B9: Alinity i-series Probe Conditioning Solution | C9: Hộp | D9: 6 | E9: NAM TRUNG
A10: 5 | B10: Alinity Reaction Vessels | C10: Hộp | D10: 35 | E10: NAM TRUNG
A11: 6 | B11: Alinity i AFP Calibrators | C11: Hộp | D11: 4 | E11: NAM TRUNG
A12: 7 | B12: Alinity i AFP Reagent Kit | C12: Hộp | D12: 20 | E12: NAM TRUNG
A13: 8 | B13: Alinity i Anti-TPO Calibrators | C13: Hộp | D13: 1 | E13: NAM TRUNG
A14: 9 | B14: Alinity i Anti-TPO Reagent Kit | C14: Hộp | D14: 1 | E14: NAM TRUNG
A15: 10 | B15: Alinity i BNP Calibrators | C15: Hộp | D15: 4 | E15: NAM TRUNG
A16: 11 | B16: Alinity i BNP Controls | C16: Hộp | D16: 6 | E16: NAM TRUNG
A17: 12 | B17: Alinity i BNP Reagent Kit | C17: Hộp | D17: 17 | E17: NAM TRUNG
... A78: 73 | B78: Alinity i Anti-Tg Reagent Kit | C78: Hộp | D78: 1 | E78: NAM TRUNG
B79: HÓA CHẤT THUỐC THỬ NỘI KIỂM - NGOẠI KIỂM | E79: TRẦN DANH
A80: 1 | B80: RIQAS Monthly Haematology (Haematology Programme) (Chương trình Ngoại kiểm Riqas Huyết Học) | C80: Hộp/3 x 2 ml | D80: 6 | E80: TRẦN DANH
A81: 2 | B81: RIQAS Monthly General Clinical Chemistry Programme (Chương trình Ngoại kiểm Riqas Sinh Hóa) | C81: Hộp/6 x 5 ml | D81: 10 | E81: TRẦN DANH
A82: 3 | B82: RIQAS Monthly Immunoassay Programme (Chương trình Ngoại kiểm Riqas Miễn Dịch) | C82: Hộp/6 x 5 ml | D82: 6 | E82: TRẦN DANH
A83: 4 | B83: RIQAS Glycated Haemoglobin (HbA1c) Programme (Chương trình Ngoại kiểm Riqas HbA1c) | C83: Hộp/6 x 0.5 ml | D83: 6 | E83: TRẦN DANH
A84: 5 | B84: RIQAS Coagulation (Coagulation Programme) (Chương trình Ngoại kiểm Riqas Đông Máu) | C84: Hộp/6 x 1 ml | D84: 6 | E84: TRẦN DANH
A85: 6 | B85: RIQAS Blood Gas (Chương trình Ngoại kiểm Riqas Khí Máu) | C85: Hộp/6 x 1.8 ml | D85: 6 | E85: TRẦN DANH
A86: 7 | B86: RIQAS Monthly Cardiac Plus Programme (Chương trình Ngoại kiểm Riqas Tim Mạch) | C86: Hộp/6 x 3 ml | D86: 6 | E86: TRẦN DANH
A87: 8 | B87: RIQAS ESR (ESR Programme) (Chương trình Ngoại kiểm Riqas Tốc Độ Máu Lắng) | C87: Hộp/2 x 4.5 ml | D87: 6 | E87: TRẦN DANH
A88: 9 | B88: RIQAS Ammonia/Ethanol Programme (Chương trình Ngoại kiểm Riqas Ammonia/Ethanol) | C88: Hộp/6 x 2 ml | D88: 10 | E88: TRẦN DANH
A89: 10 | B89: RIQAS Serology (HIV/Hepatitis) Programme (Chương trình Ngoại kiểm Riqas HIV/Viêm Gan) | C89: Hộp/12 x 1.8 ml | D89: 6 | E89: TRẦN DANH
A90: 11 | B90: RIQAS Serology (Syphilis) Programme (Chương trình Ngoại kiểm Riqas Giang Mai) | C90: Hộp/ 6 x 1 ml | D90: 6 | E90: TRẦN DANH
A91: 12 | B91: RIQAS Immunoassay Speciality I Programme (Chương trình Ngoại kiểm Riqas Miễn Dịch Đặc Biệt I) | C91: Hộp/6 x 2 ml | D91: 6 | E91: TRẦN DANH
... A118: 39 | B118: Calibbration Serum Level 3 (CAL 3) (Calib Sinh hóa mức 3) | C118: Hộp | D118: 2 | E118: TRẦN DANH
B119: HÓA CHẤT XÉT NGHIỆM SINH HỌC PHÂN TỬ - MIỄN DỊCH | E119: KIẾN ĐỨC
A120: 1 | B120: Đơn vị xử lý mẫu | C120: Thùng/ 12x24 pcs | D120: 25 | E120: KIẾN ĐỨC
A121: 2 | B121: Đơn vị chứa mẫu | C121: Thùng/ 12x24 pcs | D121: 30 | E121: KIẾN ĐỨC
A122: 3 | B122: Ống chứa mẫu phẩm đã chuẩn bị | C122: Thùng/ 12x96 pcs | D122: 10 | E122: KIẾN ĐỨC
A123: 4 | B123: Đầu côn trộn đều và chuyển mẫu | C123: Thùng/ 12x36 pcs | D123: 20 | E123: KIẾN ĐỨC
A124: 5 | B124: Nước rửa sử dụng cho hóa chất định lượng virut, thể tích 5.1L | C124: Hộp/ 5,1lit | D124: 120 | E124: KIẾN ĐỨC
A125: 6 | B125: Hóa chất đo tải lượng virut HCV theo phương pháp RT-PCR tự động, 72 test | C125: Thùng/ 72 tests | D125: 30 | E125: KIẾN ĐỨC
A126: 7 | B126: Hóa chất đo tải lượng virut viêm gan B theo phương pháp RT-PCR tự động, 72 test | C126: Thùng/ 72 tests | D126: 70 | E126: KIẾN ĐỨC
A127: 8 | B127: Bộ xét nghiệm gen ung thư EGFR | C127: Hộp /24 Test | D127: 20 | E127: KIẾN ĐỨC
A128: 9 | B128: Đĩa chứa ống thuốc thử bằng nhựa | C128: Hộp /50 Cái | D128: 5 | E128: KIẾN ĐỨC
...
