Workbook

Sheet Sheet2
E1: Bệnh viện Nguyễn Trãi
E2: Khoa Xét Nghiệm
E3: Thành phố Hồ Chí Minh,ngày 18 tháng 11 năm 2022
E5: PHIẾU ĐỀ XUẤT
E6: HÓA CHẤT VẬT TƯ NĂM 2023 | H6: Phần này Nhà thầu phải điền đầy đủ thông tin, không tahy đổi thì điền lại thông tin của Bệnh viện
C8: LÔ | D8: STT | E8: Tên hàng hoá | F8: Đơn vị tính | G8: Số lượng | H8: Sô lượng cập nhật mới | I8: Đơn vị tính (nhỏ nhất có thể tính tiền của Nhà thầu) | J8: Đơn giá ứng với đơn vị tính | K8: Đơn vị | L8: Tên tiếng việt | M8: Tên tiếng anh | N8: Mã hàng công ty quản lý | O8: Mã 5086 (nếu có) | P8: Mã kê khai giá | Q8: Giá kê khai (niêm yết báo giá) | R8: Tổng dự toán giá dự kiến
A9: LÔ 1 | B9: Lô 1 | C9: HCTM-0001 | D9: 1 | E9: HÓA CHẤT Hệ thống định danh và kháng sinh đồ tự động hoặc tương đương | K9: SISC | L9: 8670601875 | R9: =H9*J9 -> 0
B10: Lô 1 | C10: HCTM-0002 | D10: 2 | E10: Định danh vi khuẩn Gram âm | K10: Công ty CP Thiết Bị Sài Gòn | R10: =H10*J10 -> 0
B11: Lô 1 | C11: HCTM-0003 | D11: 3 | E11: - Panel định danh vi khuẩn Gram âm | F11: 25 panel/ hộp | G11: 20 | H11: 625 | I11: Thẻ | J11: 128000 | K11: Công ty CP Thiết Bị Sài Gòn | L11: Thẻ định danh gram âm | M11: BD Phoenix™ NID | N11: 448007 | O11: Không có | P11: KKG-0102-00292 | R11: =H11*J11 -> 80000000
B12: Lô 1 | C12: HCTM-0004 | D12: 4 | E12: - Canh trường định danh | F12: 100 tube/ hộp | H12: 0 | K12: Công ty CP Thiết Bị Sài Gòn | R12: =H12*J12 -> 0
B13: Lô 1 | C13: HCTM-0005 | D13: 5 | E13: Định danh vi khuẩn Gram dương | H13: 0 | K13: Công ty CP Thiết Bị Sài Gòn | R13: =H13*J13 -> 0
B14: Lô 1 | C14: HCTM-0006 | D14: 6 | E14: - Panel định danh vi khuẩn Gram dương | F14: 25 panel/ hộp | G14: 20 | H14: 625 | I14: Thẻ | J14: 128000 | K14: Công ty CP Thiết Bị Sài Gòn | L14: Thẻ định danh gram dương | M14: BD Phoenix™ PID | N14: 448008 | O14: Không có | P14: KKG-0102-00293 | R14: =H14*J14 -> 80000000
B15: Lô 1 | C15: HCTM-0007 | D15: 7 | E15: - Canh trường định danh | F15: 100 tube/ hộp | H15: 0 | K15: Công ty CP Thiết Bị Sài Gòn | R15: =H15*J15 -> 0
B16: Lô 1 | C16: HCTM-0008 | D16: 8 | E16: Định danh nấm | H16: 0 | K16: Công ty CP Thiết Bị Sài Gòn | R16: =H16*J16 -> 0
B17: Lô 1 | C17: HCTM-0009 | D17: 9 | E17: - Panel định danh nấm | F17: 25 panel/ hộp | G17: 10 | H17: 325 | I17: Thẻ | J17: 128000 | K17: Công ty CP Thiết Bị Sài Gòn | L17: Thẻ định danh nấm men | M17: BD Phoenix™ Yeast ID | N17: 448316 | O17: Không có | P17: KKG-0102-00288 | R17: =H17*J17 -> 41600000
B18: Lô 1 | C18: HCTM-0010 | D18: 10 | E18: - Canh trường định danh | F18: 100 tube/ hộp | H18: 0 | K18: Công ty CP Thiết Bị Sài Gòn | R18: =H18*J18 -> 0
B19: Lô 1 | C19: HCTM-0011 | D19: 11 | E19: Kháng sinh đồ Gram dương | H19: 0 | K19: Công ty CP Thiết Bị Sài Gòn | R19: =H19*J19 -> 0
B20: Lô 1 | C20: HCTM-0012 | D20: 12 | E20: - Panel kháng sinh đồ Gram dương | F20: 25 panel/ hộp | G20: 20 | H20: 625 | I20: Thẻ | J20: 116000 | K20: Công ty CP Thiết Bị Sài Gòn | L20: Thẻ kháng sinh đồ gram dương | M20: BD Phoenix™ PMIC- 84 | N20: 448420 | O20: Không có | P20: KKG-0102-00289 | R20: =H20*J20 -> 72500000
B21: Lô 1 | C21: HCTM-0013 | D21: 13 | E21: - Canh trường định danh | F21: 100 tube/ hộp | H21: 0 | K21: Công ty CP Thiết Bị Sài Gòn | R21: =H21*J21 -> 0
B22: Lô 1 | C22: HCTM-0014 | D22: 14 | E22: - Canh trường làm kháng sinh đồ cho vi khuẩn gram âm và gram dương | F22: 100 tube/ hộp | H22: 0 | K22: Công ty CP Thiết Bị Sài Gòn | R22: =H22*J22 -> 0
B23: Lô 1 | C23: HCTM-0015 | D23: 15 | E23: - Chỉ thị làm kháng sinh đồ cho vi khuẩn gram âm và gram dương | F23: 1.000 test/hộp | H23: 0 | K23: Công ty CP Thiết Bị Sài Gòn | R23: =H23*J23 -> 0
B24: Lô 1 | C24: HCTM-0016 | D24: 16 | E24: Kháng sinh đồ Gram âm | H24: 0 | K24: Công ty CP Thiết Bị Sài Gòn | R24: =H24*J24 -> 0
B25: Lô 1 | C25: HCTM-0017 | D25: 17 | E25: - Panel kháng sinh đồ Gram âm | F25: 25 panel/ hộp | G25: 10 | H25: 325 | I25: Thẻ | J25: 130720 | K25: Công ty CP Thiết Bị Sài Gòn | L25: Thẻ kháng sinh đồ vi khuẩn gram âm, khẳng định và phân nhóm CPO | M25: BD Phoenix™ NMIC-500 | N25: 449023 | O25: Không có | P25: KKG-0102-00307 | R25: =H25*J25 -> 42484000
B26: Lô 1 | C26: HCTM-0018 | D26: 18 | E26: - Canh trường định danh | F26: 100 tube/ hộp | H26: 0 | K26: Công ty CP Thiết Bị Sài Gòn | R26: =H26*J26 -> 0
B27: Lô 1 | C27: HCTM-0019 | D27: 19 | E27: - Canh trường làm kháng sinh đồ cho vi khuẩn gram âm và gram dương | H27: 0 | K27: Công ty CP Thiết Bị Sài Gòn | R27: =H27*J27 -> 0
B28: Lô 1 | C28: HCTM-0020 | D28: 20 | E28: - Chỉ thị làm kháng sinh đồ cho vi khuẩn gram âm và gram dương | F28: 1.000 test/ hộp | H28: 0 | K28: Công ty CP Thiết Bị Sài Gòn | R28: =H28*J28 -> 0
B29: Lô 1 | C29: HCTM-0021 | D29: 21 | E29: Định danh + kháng sinh đồ Gram âm | H29: 0 | K29: Công ty CP Thiết Bị Sài Gòn | R29: =H29*J29 -> 0
B30: Lô 1 | C30: HCTM-0022 | D30: 22 | E30: - Panel vừa định danh vừa kháng sinh đồ Gram âm | F30: 25 panel/ hộp | G30: 500 | H30: 15625 | I30: Thẻ | J30: 226000 | K30: Công ty CP Thiết Bị Sài Gòn | L30: Thẻ định danh, kháng sinh đồ vi khuẩn gram âm và khẳng định CPO | M30: BD Phoenix™ NMIC/ID-504 | N30: 449027 | O30: Không có | P30: KKG-0102-00308 | R30: =H30*J30 -> 3531250000
B31: Lô 1 | C31: HCTM-0023 | D31: 23 | E31: - Canh trường định danh | F31: 100 tube/ hộp | G31: 200 | H31: 26300 | I31: Ống | J31: 21740 | K31: Công ty CP Thiết Bị Sài Gòn | L31: Canh trường định danh - id broth | M31: BD Phoenix™ ID Broth | N31: 246001 | O31: Không có | P31: KKG-0102-00271 | R31: =H31*J31 -> 571762000
B32: Lô 1 | C32: HCTM-0024 | D32: 24 | E32: - Canh trường làm kháng sinh đồ cho vi khuẩn gram âm và gram dương | F32: 100 tube/ hộp | G32: 200 | H32: 25400 | I32: Ống | J32: 25510 | K32: Công ty CP Thiết Bị Sài Gòn | L32: Canh trường làm kháng sinh đồ-ast broth | M32: BD Phoenix™ AST Broth | N32: 246003 | O32: Không có | P32: KKG-0102-00272 | R32: =H32*J32 -> 647954000
B33: Lô 1 | C33: HCTM-0025 | D33: 25 | E33: - Chỉ thị làm kháng sinh đồ cho vi khuẩn gram âm và gram dương | F33: 1.000 test/ hộp | G33: 30 | H33: 260 | I33: Ống | J33: 343000 | K33: Công ty CP Thiết Bị Sài Gòn | L33: Chỉ thị kháng sinh đồ ast indicator | M33: BD Phoenix™ AST Indicator Solution | N33: 246004 | O33: Không có | P33: KKG-0102-00273 | R33: =H33*J33 -> 89180000
B34: Lô 1 | C34: HCTM-0026 | D34: 26 | E34: Định danh + kháng sinh đồ Gram dương | H34: 0 | K34: Công ty CP Thiết Bị Sài Gòn | R34: =H34*J34 -> 0
B35: Lô 1 | C35: HCTM-0027 | D35: 27 | E35: - Panel vừa định danh vừa kháng sinh đồ Gram dương | F35: 25 panel/ hộp | G35: 250 | H35: 7875 | I35: Thẻ | J35: 226000 | K35: Công ty CP Thiết Bị Sài Gòn | L35: Thẻ định danh, kháng sinh đồ vi khuần gram dương | M35: BD Phoenix™ PMIC/ID-95 | N35: 448614 | O35: Không có | P35: KKG-0102-00310 | R35: =H35*J35 -> 1779750000
B36: Lô 1 | C36: HCTM-0028 | D36: 28 | E36: - Canh trường định danh | F36: 100 tube/ hộp | H36: 0 | K36: Công ty CP Thiết Bị Sài Gòn | R36: =H36*J36 -> 0
B37: Lô 1 | C37: HCTM-0029 | D37: 29 | E37: - Canh trường làm kháng sinh đồ cho vi khuẩn gram âm và gram dương | F37: 100 tube/ hộp | H37: 0 | K37: Công ty CP Thiết Bị Sài Gòn | R37: =H37*J37 -> 0
B38: Lô 1 | C38: HCTM-0030 | D38: 30 | E38: - Chỉ thị làm kháng sinh đồ cho vi khuẩn gram âm và gram dương | F38: 1.000 test/ hộp | H38: 0 | K38: Công ty CP Thiết Bị Sài Gòn | R38: =H38*J38 -> 0
B39: Lô 1 | C39: HCTM-0031 | D39: 31 | E39: Định danh + kháng sinh đồ Streptoccocus | H39: 0 | K39: Công ty CP Thiết Bị Sài Gòn | R39: =H39*J39 -> 0
B40: Lô 1 | C40: HCTM-0032 | D40: 32 | E40: - Panel vừa định danh vừa kháng sinh đồ Streptoccocus | F40: 25 panel/ hộp | G40: 10 | H40: 325 | I40: Thẻ | J40: 226000 | K40: Công ty CP Thiết Bị Sài Gòn | L40: Thẻ định danh, kháng sinh đồ dành cho liên cầu khuẩn | M40: BD Phoenix™ SMIC/ID-2 | N40: 448851 | O40: Không có | P40: KKG-0102-00291 | R40: =H40*J40 -> 73450000
B41: Lô 1 | C41: HCTM-0033 | D41: 33 | E41: - Canh trường định danh | F41: 100 tube/ hộp | H41: 0 | K41: Công ty CP Thiết Bị Sài Gòn | R41: =H41*J41 -> 0
B42: Lô 1 | C42: HCTM-0034 | D42: 34 | E42: - Canh trường làm kháng sinh đồ dành cho vi khuẩn Streptoccocus | F42: 100 tube/ hộp | G42: 5 | H42: 320 | I42: Ống | J42: 30000 | K42: Công ty CP Thiết Bị Sài Gòn | L42: Canh trường làm kháng sinh đồ dành cho liên cầu khuẩn ast-s broth | M42: BD Phoenix™ AST-S Broth | N42: 246007 | O42: Không có | P42: KKG-0102-00274 | R42: =H42*J42 -> 9600000
B43: Lô 1 | C43: HCTM-0035 | D43: 35 | E43: - Chỉ thị làm kháng sinh đồ cho vi khuẩn Streptoccocus | F43: 1.000 test/ hộp | G43: 2 | H43: 3.125 | I43: Ống | J43: 343000 | K43: Công ty CP Thiết Bị Sài Gòn | L43: Chỉ thị kháng sinh đồ cho liên cầu khuẩn ast-s indicator | M43: BD Phoenix™ AST-S Indicator Solution | N43: 246009 | O43: Không có | P43: KKG-0102-00275 | R43: =H43*J43 -> 1071875
B44: Lô 1 | C44: HCTM-0036 | D44: 36 | E44: Cấy máu hiếu khí người lớn | F44: Chai | G44: 12000 | H44: 15000 | I44: Chai | J44: 110000 | K44: Công ty CP Thiết Bị Sài Gòn | L44: Bottle Plastic Bactec Plus Aerob/F 50/Pk | M44: BD BACTEC™ Plus Aerobic/F Culture Vials | N44: 442023 | O44: Không có | P44: KKG-0102-00284 | R44: =H44*J44 -> 1650000000
A45: LÔ 2 | B45: Lô 2 | C45: HCTM-0037 | D45: 37 | E45: Hóa chất cho máy đông máu tự động: STACOMPACT MAX hoặc tương đương | K45: MỸ GIAO | L45: 7973979027 | R45: =H45*J45 -> 0
B46: Lô 2 | C46: HCTM-0038 | D46: 38 | E46: Hóa chất xét nghiệm PT (thời gian prothrombin) | F46: Hộp/ 6 x 5-ml đông khô + 6 x 5-ml dung dịch đệm | G46: 100 | H46: 120 | I46: Hộp | J46: 2566400 | K46: MỸ GIAO | L46: Hóa chất xét nghiệm PT (thời gian prothrombin) | M46: 01163 STA - NeoPTimal 5, 6 x 5 ml | N46: 01163 | O46: không áp dụng | P46: KKG-1018-00168 | R46: =H46*J46 -> 307968000
B47: Lô 2 | C47: HCTM-0039 | D47: 39 | E47: Hóa chất xét nghiệm APTT hoạt hóa bằng Kaolin, máy đông máu tự động | F47: Hộp/6 x 5-ml đông khô + 6 x 5-ml dung dịch đệm | G47: 70 | H47: 70 | I47: Hộp | J47: 6260804 | K47: MỸ GIAO | L47: Hóa chất xét nghiệm APTT hoạt hóa bằng Kaolin, máy đông máu tự động | M47: 00597 STA - C.K. Prest 5 6 x 5 ml | N47: 00597 | O47: không áp dụng | P47: KKG-1018-00473 | R47: =H47*J47 -> 438256280
B48: Lô 2 | C48: HCTM-0040 | D48: 40 | E48: Dung dịch lỏng Canxi Clorua 0.025 M dùng cho các xét nghiệm đông máu | F48: Hộp/24 x 15-ml | G48: 4 | H48: 6 | I48: Hộp | J48: 3219626 | K48: MỸ GIAO | L48: Dung dịch lỏng Canxi Clorua 0.025 M dùng cho các xét nghiệm đông máu | M48: 00367 STA - CaCl2 0.025M 24 x 15 ml | N48: 00367 | O48: không áp dụng | P48: KKG-1018-00474 | R48: =H48*J48 -> 19317756
B49: Lô 2 | C49: HCTM-0041 | D49: 41 | E49: Nội kiểm đông máu cho các xét nghiệm đặc biệt như Yếu tố đông máu, PS, PC, ATIII | F49: Hộp/12 x 2 x 1-ml | G49: 30 | H49: 36 | I49: Hộp | J49: 10057950 | K49: MỸ GIAO | L49: Nội kiểm đông máu cho các xét nghiệm đặc biệt như Yếu tố đông máu, PS, PC, ATIII | M49: 00678 STA - System Control N+P 12x2x1 ml | N49: 00678 | O49: không áp dụng | P49: KKG-1018-00159 | R49: =H49*J49 -> 362086200
B50: Lô 2 | C50: HCTM-0042 | D50: 42 | E50: Hóa chất xét nghiệm Fibrinogen | F50: Hộp/12 x 4-ml | G50: 30 | H50: 30 | I50: Hộp | J50: 18242742 | K50: MỸ GIAO | L50: Hóa chất xét nghiệm Fibrinogen | M50: 00673 STA - Liquid Fib 12 x 4 ml | N50: 00673 | O50: không áp dụng | P50: KKG-1018-00472 | R50: =H50*J50 -> 547282260
B51: Lô 2 | C51: HCTM-0043 | D51: 43 | E51: Cóng đo từ xét nghiệm đông máu cho máy tự động | F51: Thùng/6 x 1000 cái | G51: 20 | H51: 25 | I51: Thùng | J51: 54583305 | K51: MỸ GIAO | L51: Cóng đo từ xét nghiệm đông máu cho máy tự động | M51: 38669 STA CUVETTE 6 x 1000 | N51: 38669 | O51: không áp dụng | P51: KKG-1018-00475 | R51: =H51*J51 -> 1364582625
B52: Lô 2 | C52: HCTM-0044 | D52: 44 | E52: Dung dịch pha loãng mẫu đông máu | F52: Hộp/24 x 15-ml | G52: 3 | H52: 10 | I52: Hộp | J52: 3457556 | K52: MỸ GIAO | L52: Dung dịch pha loãng mẫu đông máu | M52: 00360 STA - Owren-Koller 24 x 15 ml | N52: 00360 | O52: không áp dụng | P52: KKG-1018-00477 | R52: =H52*J52 -> 34575560
B53: Lô 2 | C53: HCTM-0045 | D53: 45 | E53: Hóa chất rửa máy hệ thống đông máu tự động | F53: Thùng/6 x 2500-ml | G53: 40 | H53: 50 | I53: Thùng | J53: 7040565 | K53: MỸ GIAO | L53: Hóa chất rửa máy hệ thống đông máu tự động | M53: 00973 STA - Cleaner Solution 6 x 2.5 l | N53: 00973 | O53: không áp dụng | P53: KKG-1018-00485 | R53: =H53*J53 -> 352028250
B54: Lô 2 | C54: HCTM-0046 | D54: 46 | E54: Hóa chất rửa kim hệ thống máy đông máu tự động | F54: Hộp/24 x 15-ml | G54: 40 | H54: 50 | I54: Hộp | J54: 7574826 | K54: MỸ GIAO | L54: Hóa chất rửa kim hệ thống máy đông máu tự động | M54: 00975 STA - Desorb U 24 x 15 ml | N54: 00975 | O54: không áp dụng | P54: KKG-1018-00476 | R54: =H54*J54 -> 378741300
B55: Lô 2 | C55: HCTM-0047 | D55: 47 | E55: Ống khói bảo quản lọ hóa chất lọ 4 - 6 ml | F55: Hộp/100 cái | G55: 4 | H55: 4 | I55: Hộp | J55: 4622600 | K55: MỸ GIAO | L55: Ống khói bảo quản lọ hóa chất lọ 4 - 6 ml | M55: 00797 STA - mini Reducer 1 x 100 | N55: 00797 | O55: không áp dụng | P55: KKG-1018-00481 | R55: =H55*J55 -> 18490400
B56: Lô 2 | C56: HCTM-0048 | D56: 48 | E56: Ống khói bảo quản lọ hóa chất lọ 8 - 15 ml | F56: Hộp/100 cái | G56: 4 | H56: 4 | I56: Hộp | J56: 4622600 | K56: MỸ GIAO | L56: Ống khói bảo quản lọ hóa chất lọ 8 - 15 ml | M56: 00801 STA - maxi Reducer 1 x 100 | N56: 00801 | O56: không áp dụng | P56: KKG-1018-00482 | R56: =H56*J56 -> 18490400
B57: Lô 2 | C57: HCTM-0049 | D57: 49 | E57: Thanh khuấy từ cho xét nghiệm aPTT trên máy đông máu tự động | F57: Gói/ 1 cái | G57: 3 | H57: 3 | I57: Gói | J57: 778030 | K57: MỸ GIAO | L57: Thanh khuấy từ cho xét nghiệm aPTT trên máy đông máu tự động | M57: 26674 RED STIRRING BAR 3,2X12,7 | N57: 26674 | O57: không áp dụng | P57: KKG-1018-00484 | R57: =H57*J57 -> 2334090
B58: Lô 2 | C58: HCTM-0050 | D58: 50 | E58: Thanh khuấy từ cho xét nghiệm PT trên máy đông máu tự động | F58: Gói/ 1 cái | G58: 3 | H58: 3 | I58: Gói | J58: 851950 | K58: MỸ GIAO | L58: Thanh khuấy từ cho xét nghiệm PT trên máy đông máu tự động | M58: 27425 WHITE STIRRING BAR (2X7) | N58: 27425 | O58: không áp dụng | P58: KKG-1018-00483 | R58: =H58*J58 -> 2555850
B59: Lô 2 | C59: HCTM-0051 | D59: 51 | E59: Hóa chất xét nghiệm D-Dimer 2 kháng thể đơn dòng | F59: Hộp/6 x 5-ml dung dịch đệm + 6 x 6-ml latex | G59: 40 | H59: 68 | I59: Hộp | J59: 47775000 | K59: MỸ GIAO | L59: Hóa chất xét nghiệm D-Dimer 2 kháng thể đơn dòng | M59: 00662 STA - Liatest D-Di Plus 6 x 6 ml | N59: 00662 | O59: không áp dụng | P59: KKG-1018-00479 | R59: =H59*J59 -> 3248700000
B60: Lô 2 | C60: HCTM-0052 | D60: 52 | E60: Chất nội kiểm xét nghiệm D-Dimer | F60: Hộp/12 x 2 x 1-ml | G60: 25 | H60: 27 | I60: Hộp | J60: 8868300 | K60: MỸ GIAO | L60: Chất nội kiểm xét nghiệm D-Dimer | M60: 00526 STA - Liatest Control N+P 12x2x1ml | N60: 00526 | O60: không áp dụng | P60: KKG-1018-00486 | R60: =H60*J60 -> 239444100
B61: Lô 2 | C61: HCTM-0053 | D61: 53 | E61: Xét nghiệm Staclot Protein S | F61: Hộp/2 x 3 x 1-ml | G61: 5 | H61: 8 | I61: Hộp | J61: 14883750 | K61: MỸ GIAO | L61: Xét nghiệm Staclot Protein S | M61: 00746 STA - Staclot Protein S 2 x 1 ml | N61: 00746 | O61: không áp dụng | P61: KKG-1018-00166 | R61: =H61*J61 -> 119070000
B62: Lô 2 | C62: HCTM-0054 | D62: 54 | E62: Huyết tương mẫu người bình thường dạng đông khô dùng cho máy đông máu tự động | F62: Hộp/6 x 1-ml | G62: 2 | H62: 3 | I62: Hộp | J62: 3150000 | K62: MỸ GIAO | L62: Huyết tương mẫu người bình thường dạng đông khô dùng cho máy đông máu tự động | M62: 00675 STA - Unicalibrator 6 x 1 ml | N62: 00675 | O62: không áp dụng | P62: KKG-1018-00158 | R62: =H62*J62 -> 9450000
B63: Lô 2 | C63: HCTM-0055 | D63: 55 | E63: Hóa chất xét nghiệm AT III | F63: Hộp/4 x 3-ml đông khô + 4 x 3-ml cơ chất + 4 x 3-ml dung dịch đệm | G63: 3 | H63: 3 | I63: Hộp | J63: 17640000 | K63: MỸ GIAO | L63: Hóa chất xét nghiệm AT III | M63: 00596 STA - Stachrom AT III 4 x 3 ml | N63: 00596 | O63: không áp dụng | P63: KKG-1018-00151 | R63: =H63*J63 -> 52920000
B64: Lô 2 | C64: HCTM-0056 | D64: 56 | E64: Hóa chất xét nghiệm Protein C phương pháp so màu | F64: Hộp/6 x 3-ml chất kích hoạt + 6 x 6-ml cơ chất | G64: 5 | H64: 5 | I64: Hộp | J64: 58432506 | K64: MỸ GIAO | L64: Hóa chất xét nghiệm Protein C phương pháp so màu | M64: 00671 STA - Stachrom Protein C 6 x 3 ml | N64: 00671 | O64: không áp dụng | P64: KKG-1018-00156 | R64: =H64*J64 -> 292162530
B65: Lô 2 | C65: HCTM-0057 | D65: 57 | E65: Hóa chất xét nghiệm yếu tố XII Immunodef | F65: Hộp/6 x 1-ml | G65: 1 | H65: 1 | I65: Hộp | J65: 18169200 | K65: MỸ GIAO | L65: Hóa chất xét nghiệm yếu tố XII Immunodef | M65: 00315 STA - ImmunoDef XII | N65: 00315 | O65: không áp dụng | P65: KKG-1018-00175 | R65: =H65*J65 -> 18169200
B66: Lô 2 | C66: HCTM-0058 | D66: 58 | E66: Hỗn hợp huyết tương hiệu chứng cho các xét nghiệm yếu tố | F66: Hộp/12 x 1-ml | G66: 1 | H66: 1 | I66: Hộp | J66: 4853536 | K66: MỸ GIAO | L66: Hỗn hợp huyết tương hiệu chứng cho các xét nghiệm yếu tố | M66: 00539 Pool Norm 12 x 1 ml | N66: 00539 | O66: không áp dụng | P66: KKG-1018-00184 | R66: =H66*J66 -> 4853536
B67: Lô 2 | C67: HCTM-0059 | D67: 59 | E67: Hóa chất xét nghiệm thời gian Thrombin | F67: Hộp/12 x 2-ml | G67: 5 | H67: 5 | I67: Hộp | J67: 2940000 | K67: MỸ GIAO | L67: Hóa chất xét nghiệm thời gian Thrombin | M67: 00611 STA - Thrombin 12 x 2 ml | N67: 00611 | O67: không áp dụng | P67: KKG-1018-00480 | R67: =H67*J67 -> 14700000
B68: Lô 2 | C68: HCTM-0060 | D68: 60 | E68: Hóa chất xét nghiệm yếu tố Immunodef XI | F68: Hộp/6 x 1-ml | G68: 1 | H68: 1 | I68: Hộp | J68: 17640000 | K68: MỸ GIAO | L68: Hóa chất xét nghiệm yếu tố Immunodef XI | M68: 00759 STA - ImmunoDef XI 6 x 1 ml | N68: 00759 | O68: không áp dụng | P68: KKG-1018-00180 | R68: =H68*J68 -> 17640000
B69: Lô 2 | C69: HCTM-0061 | D69: 61 | E69: Hóa chất xét nghiệm yếu tố IX Immunodef | F69: Hộp/6 x 1-ml | G69: 1 | H69: 1 | I69: Hộp | J69: 8027040 | K69: MỸ GIAO | L69: Hóa chất xét nghiệm yếu tố IX Immunodef | M69: 00734 STA - ImmunoDef IX 6 x 1 ml | N69: 00734 | O69: không áp dụng | P69: KKG-1018-00164 | R69: =H69*J69 -> 8027040
B70: Lô 2 | C70: HCTM-0062 | D70: 62 | E70: Hóa chất xét nghiệm yếu tố VIII Immunodef | F70: Hộp/6 x 1-ml | G70: 3 | H70: 5 | I70: Hộp | J70: 8270010 | K70: MỸ GIAO | L70: Hóa chất xét nghiệm yếu tố VIII Immunodef | M70: 00728 STA - ImmunoDef VIII 6 x 1 ml | N70: 00728 | O70: không áp dụng | P70: KKG-1018-00163 | R70: =H70*J70 -> 41350050
... B76: Lô 2 | C76: HCTM-0068 | D76: 68 | E76: Cúp chiết hóa chất dông máu | F76: Hộp/100 cái | G76: 1 | H76: 6 | I76: Hộp | J76: 4134400 | K76: MỸ GIAO | L76: Cúp chiết hóa chất dông máu | M76: 00802 STA - Microcups 1 x 100 | N76: 00802 | O76: không áp dụng | P76: KKG-1018-00192 | R76: =H76*J76 -> 24806400
A77: LÔ 3 | B77: Lô 3 | C77: HCTM-0069 | D77: 69 | E77: HÓA CHẤT XÉT NGHIỆM ĐIỆN DI TRÊN MÁY XÉT NGHIỆM ĐIỆN DI 8 ĐẦU DI hoặc tương đương | K77: MỸ GIAO | L77: 6854016840 | R77: =H77*J77 -> 0
B78: Lô 3 | C78: HCTM-0070 | D78: 70 | E78: Cốc thuốc thử phản ứng dành cho 8 đầu di | F78: Hộp/24 x 14 dãy | G78: 40 | H78: 30 | I78: Hộp | J78: 3510000 | K78: MỸ GIAO | L78: Cốc thuốc thử phản ứng dành cho 8 đầu di | M78: 2582 CAPI 3 REAGENT CUPS (24 x 14) | N78: 2582 | O78: không áp dụng | P78: KKG-1018-00249 | R78: =H78*J78 -> 105300000
B79: Lô 3 | C79: HCTM-0071 | D79: 71 | E79: Dung dịch rửa điện di mao quản 8/12 đầu di | F79: Hộp/1 x 75 ml | G79: 60 | H79: 80 | I79: Hộp | J79: 1080000 | K79: MỸ GIAO | L79: Dung dịch rửa điện di mao quản 8/12 đầu di | M79: 2062 CAPILLARYS 3 WASH SOLUTION (1) | N79: 2062 | O79: không áp dụng | P79: KKG-1018-00247 | R79: =H79*J79 -> 86400000
B80: Lô 3 | C80: HCTM-0072 | D80: 72 | E80: Dung dịch khử khuẩn | F80: Hộp/1 x 5 ml | G80: 10 | H80: 8 | I80: Hộp | J80: 2640000 | K80: MỸ GIAO | L80: Dung dịch khử khuẩn | M80: 2059 CLEAN PROTECT | N80: 2059 | O80: không áp dụng | P80: KKG-1018-00243 | R80: =H80*J80 -> 21120000
B81: Lô 3 | C81: HCTM-0073 | D81: 73 | E81: Dung dịch rửa kim | F81: Hộp/1 x 25 ml | G81: 10 | H81: 10 | I81: Hộp | J81: 3480000 | K81: MỸ GIAO | L81: Dung dịch rửa kim | M81: 2060 CAPILLARYS 3 CAPICLEAN | N81: 2060 | O81: không áp dụng | P81: KKG-1018-00246 | R81: =H81*J81 -> 34800000
B82: Lô 3 | C82: HCTM-0074 | D82: 74 | E82: Ống chiết QC | F82: Hộp/20 ống | G82: 10 | H82: 20 | I82: Hộp | J82: 1980000 | K82: MỸ GIAO | L82: Ống chiết QC | M82: 9202 TUBES AND CAPS FOR CONTROLS (20) | N82: 9202 | O82: không áp dụng | P82: KKG-1018-00250 | R82: =H82*J82 -> 39600000
B83: Lô 3 | C83: HCTM-0075 | D83: 75 | E83: Khay thải | F83: Hộp/5 cái | G83: 7 | H83: 7 | I83: Hộp | J83: 1380000 | K83: MỸ GIAO | L83: Khay thải | M83: 2581 2581 CAPI 3 BINS FOR USED REAGENT CUPS | N83: 2581 | O83: không áp dụng | P83: KKG-1018-00248 | R83: =H83*J83 -> 9660000
B84: Lô 3 | C84: HCTM-0076 | D84: 76 | E84: Hóa chất điện di mao quản Hb (cho 8/12 đầu di) | F84: Hộp/2 x 700 ml | G84: 24 | H84: 30 | I84: Hộp | J84: 40080000 | K84: MỸ GIAO | L84: Hóa chất điện di mao quản Hb (cho 8/12 đầu di) | M84: 2507 CAPI 3 HEMOGLOBIN(E) | N84: 2507 | O84: không áp dụng | P84: KKG-1018-00225 | R84: =H84*J84 -> 1202400000
B85: Lô 3 | C85: HCTM-0077 | D85: 77 | E85: Hóa chất kiểm chuẩn HbA2 bình thường | F85: Hộp/5 x 1.6 ml | G85: 15 | H85: 14 | I85: Hộp | J85: 5860000 | K85: MỸ GIAO | L85: Hóa chất kiểm chuẩn HbA2 bình thường | M85: 4778 NORMAL Hb A2 CONTROL (5) | N85: 4778 | O85: không áp dụng | P85: KKG-1018-00239 | R85: =H85*J85 -> 82040000
B86: Lô 3 | C86: HCTM-0078 | D86: 78 | E86: Hóa chất điện di mao quản Protein (cho 8/12 đầu di) | F86: Hộp/3 x 700 ml | G86: 40 | H86: 50 | I86: Hộp | J86: 38200050 | K86: MỸ GIAO | L86: Hóa chất điện di mao quản Protein (cho 8/12 đầu di) | M86: 2503 CAPI 3 PROTEIN(E) 6 | N86: 2503 | O86: không áp dụng | P86: KKG-1018-00224 | R86: =H86*J86 -> 1910002500
B87: Lô 3 | C87: HCTM-0079 | D87: 79 | E87: Hóa chất kiểm chuẩn điện di Protein mức bình thường | F87: Hộp/5 x 1 ml | G87: 15 | H87: 13 | I87: Hộp | J87: 2170000 | K87: MỸ GIAO | L87: Hóa chất kiểm chuẩn điện di Protein mức bình thường | M87: 4785 NORMAL CONTROL (5) | N87: 4785 | O87: không áp dụng | P87: KKG-1018-00215 | R87: =H87*J87 -> 28210000
B88: Lô 3 | C88: HCTM-0080 | D88: 80 | E88: Hóa chất kiểm chuẩn HbA2 bệnh lý | F88: Hộp/1 x 1.6 ml | G88: 2 | H88: 2 | I88: Hộp | J88: 3690000 | K88: MỸ GIAO | L88: Hóa chất kiểm chuẩn HbA2 bệnh lý | M88: 4779 PATHOLOGICAL Hb A2 CONTROL | N88: 4779 | O88: không áp dụng | P88: KKG-1018-00240 | R88: =H88*J88 -> 7380000
B89: Lô 3 | C89: HCTM-0081 | D89: 81 | E89: Hóa chất kiểm chuẩn điện di Protein mức tăng Gamma | F89: Hộp/5 x 1 ml | G89: 1 | H89: 1 | I89: Hộp | J89: 5860000 | K89: MỸ GIAO | L89: Hóa chất kiểm chuẩn điện di Protein mức tăng Gamma | M89: 4787 HYPERGAMMA CONTROL (5) | N89: 4787 | O89: không áp dụng | P89: KKG-1018-00237 | R89: =H89*J89 -> 5860000
... B97: Lô 3 | C97: HCTM-0089 | D97: 89 | E97: Ống xử lý mẫu nước tiểu | F97: Hộp/24 ống | G97: 1 | H97: 1 | I97: Hộp | J97: 12300000 | K97: MỸ GIAO | L97: Ống xử lý mẫu nước tiểu | M97: 9200 DIALYSIS SYSTEM (24) | N97: 9200 | O97: không áp dụng | P97: KKG-1018-00259 | R97: =H97*J97 -> 12300000
B98: Lô 3 | C98: HCTM-0090 | D98: 90 | E98: Dung dịch chuẩn bị mẫu nước tiểu | F98: Hộp/1 x 480 ml | G98: 1 | H98: 1 | I98: Hộp | J98: 6178040 | K98: MỸ GIAO | L98: Dung dịch chuẩn bị mẫu nước tiểu | M98: 2513 CAPI 3 URINE | N98: 2513 | O98: không áp dụng | R98: =H98*J98 -> 6178040
B99: Lô 3 | C99: HCTM-0091 | D99: 91 | E99: Cốc thuốc thử dành cho 2 đầu di | F99: Hộp/ 125 x 3 cái | H99: 10 | I99: Hộp | J99: 6619030 | K99: MỸ GIAO | L99: Cốc thuốc thử dành cho 2 đầu di | M99: MINICAP REAGENTS CUPS (125x3) | N99: 2281 | O99: không áp dụng | P99: KKG-1018-00256 | R99: =H99*J99 -> 66190300
A100: LÔ 4 | B100: Lô 4 | C100: HCTM-0092 | D100: 92 | E100: Hoá chất xét nghiệm miễn dịch máy ROCHE hoặc tương đương | K100: KIẾN ĐỨC | L100: 14427173716 | R100: =H100*J100 -> 0
B101: Lô 4 | C101: HCTM-0093 | D101: 93 | E101: Procalcitonin | F101: Hộp/ 100 tests | G101: 50 | H101: 50 | I101: Hộp | J101: 18648000 | K101: Công ty cổ phần y tế Kiến Đức | L101: Thuốc thử xét nghiệm PCT (procalcitonin) | M101: PCT Brahms (Roche) Elecsys cobas e100 V2 | N101: 08828644190 | P101: KKG-0059-01007 | R101: =H101*J101 -> 932400000
B102: Lô 4 | C102: HCTM-0094 | D102: 94 | E102: TSH | F102: Hộp/ 200 tests | G102: 70 | H102: 70 | I102: Hộp | J102: 5128200 | K102: Công ty cổ phần y tế Kiến Đức | L102: Thuốc thử xét nghiệm TSH | M102: TSH Elecsys cobas e 200 V2 | N102: 08429324190 | P102: KKG-0059-00940 | R102: =H102*J102 -> 358974000
B103: Lô 4 | C103: HCTM-0095 | D103: 95 | E103: Chất chuẩn TSH | F103: Hộp/ 4 x 1.3 ml | G103: 8 | H103: 8 | I103: Hộp | J103: 1165500 | K103: Công ty cổ phần y tế Kiến Đức | L103: Chất hiệu chuẩn xét nghiệm TSH | M103: TSH CS Elecsys V3 | N103: 08443459190 | P103: KKG-0059-00938 | R103: =H103*J103 -> 9324000
B104: Lô 4 | C104: HCTM-0096 | D104: 96 | E104: T3 | F104: Hộp/ 200 tests | G104: 40 | H104: 40 | I104: Hộp | J104: 5128200 | K104: Công ty cổ phần y tế Kiến Đức | L104: Thuốc thử xét nghiệm T3 | M104: T3 Elecsys cobas e 200 V2 | N104: 09007725190 | P104: KKG-0059-01047 | R104: =H104*J104 -> 205128000
B105: Lô 4 | C105: HCTM-0097 | D105: 97 | E105: Chất chuẩn T3 | F105: Hộp/ 4 x 1ml | G105: 6 | H105: 6 | I105: Hộp | J105: 1165500 | K105: Công ty cổ phần y tế Kiến Đức | L105: Chất hiệu chuẩn xét nghiệm T3 | M105: T3 CS Elecsys | N105: 11731548122 | P105: KKG-0059-02129 | R105: =H105*J105 -> 6993000
B106: Lô 4 | C106: HCTM-0098 | D106: 98 | E106: Thuốc thử FT3 | F106: Hộp/ 200 tests | G106: 40 | H106: 40 | I106: Hộp | J106: 5128200 | K106: Công ty cổ phần y tế Kiến Đức | L106: Thuốc thử xét nghiệm FT3 | M106: FT3 Elecsys G3 cobas e 200 | N106: 06437206190 | P106: KKG-0059-00813 | R106: =H106*J106 -> 205128000
B107: Lô 4 | C107: HCTM-0099 | D107: 99 | E107: Hóa chất chuẩn FT3 | F107: Hộp/ 4 x 1ml | G107: 8 | H107: 8 | I107: Hộp | J107: 1165500 | K107: Công ty cổ phần y tế Kiến Đức | L107: Chất hiệu chuẩn xét nghiệm FT3 | M107: FT3 G3 CS Elecsys | N107: 06437222190 | P107: KKG-0059-02126 | R107: =H107*J107 -> 9324000
B108: Lô 4 | C108: HCTM-0100 | D108: 100 | E108: T4 | F108: Hộp/ 200 tests | G108: 7 | H108: 7 | I108: Hộp | J108: 5128200 | K108: Công ty cổ phần y tế Kiến Đức | L108: Thuốc thử xét nghiệm T4 | M108: T4 Elecsys cobas e 200 V3 | N108: 09007741190 | P108: KKG-0059-01049 | R108: =H108*J108 -> 35897400
B109: Lô 4 | C109: HCTM-0101 | D109: 101 | E109: Chất chuẩn T4 | F109: Hộp/ 4 x 1ml | G109: 4 | H109: 4 | I109: Hộp | J109: 1165500 | K109: Công ty cổ phần y tế Kiến Đức | L109: Chất hiệu chuẩn xét nghiệm T4 | M109: T4 CS Elecsys V2 | N109: 12017717122 | P109: KKG-0059-02368 | R109: =H109*J109 -> 4662000
B110: Lô 4 | C110: HCTM-0102 | D110: 102 | E110: Thuốc thử FT4 | F110: Hộp/ 200 tests | G110: 70 | H110: 70 | I110: Hộp | J110: 5384610 | K110: Công ty cổ phần y tế Kiến Đức | L110: Thuốc thử xét nghiệm FT4 | M110: FT4 G3 Elecsys cobas e 200 | N110: 07976836190 | P110: KKG-0059-01730 | R110: =H110*J110 -> 376922700
B111: Lô 4 | C111: HCTM-0103 | D111: 103 | E111: Hóa chất chuẩn FT4 | F111: Hộp/ 4 x 1ml | G111: 8 | H111: 8 | I111: Hộp | J111: 1165500 | K111: Công ty cổ phần y tế Kiến Đức | L111: Chất hiệu chuẩn xét nghiệm FT4 | M111: FT4 G3 CS Elecsys | N111: 07976879190 | P111: KKG-0059-01732 | R111: =H111*J111 -> 9324000
B112: Lô 4 | C112: HCTM-0104 | D112: 104 | E112: Chất nội kiểm cho các xét nghiệm dịch miễn điện hóa phát quang | F112: Hộp/ 4x3ml | G112: 30 | H112: 30 | I112: Hộp | J112: 1398600 | K112: Công ty cổ phần y tế Kiến Đức | L112: Vật liệu kiểm soát các xét nghiệm miễn dịch | M112: PreciControl Universal Elecsys V2 | N112: 11731416190 | P112: KKG-0059-01807 | R112: =H112*J112 -> 41958000
B113: Lô 4 | C113: HCTM-0105 | D113: 105 | E113: dung dịch hệ thống dùng để rửa bộ phát hiện của máy phân tích xét nghiệm miễn dịch | F113: Hộp/ 6 x 380ml | G113: 25 | H113: 35 | I113: Hộp | J113: 1630535 | K113: Công ty cổ phần y tế Kiến Đức | L113: Dung dịch hệ thống để làm sạch bộ phận phát hiện của máy phân tích xét nghiệm miễn dịch cobas e 411. CleanCell được sử dụng để: làm sạch hệ thống ống và tế bào điện cực sau mỗi lần đo và bảo quản điện cực. | M113: CleanCell Elecsys,cobas e | N113: 11662970122 | P113: KKG-0059-01958 | R113: =H113*J113 -> 57068725
B114: Lô 4 | C114: HCTM-0106 | D114: 106 | E114: Dung dịch hệ thống dùng để phát tín hiệu điện hóa cho máy phân tích xét nghiệm miễn dịch. | F114: Hộp/ 6 x 380ml | G114: 25 | H114: 35 | I114: Hộp | J114: 1630535 | K114: Công ty cổ phần y tế Kiến Đức | L114: Dung dịch hệ thống để tạo tín hiệu điện hóa trong máy phân tích xét nghiệm miễn dịch cobas e 411. ProCell II M được dùng để: bảo vệ các điện cực, vận chuyển hỗn hợp chất phản ứng, rửa các hạt vi mô phủ streptavidin và tạo tín hiệu. | M114: ProCell Elecsys,cobas e | N114: 11662988122 | P114: KKG-0059-01954 | R114: =H114*J114 -> 57068725
...

Sheet MAU BAO GIA
G2: Ghi chú thực hiện | H2: Giá chào là giá dự toán
A3: Tên đơn vị | H3: Nhóm TBYT | I3: N1/N2/N3/N4/N5/N6
A4: Thông tin liên hệ 1 | H4: Loại TBYT | I4: A/B/C/D
A5: Thông tin liên hệ 2
B7: Mã Công ty | C7: STT | D7: Lô | E7: Mã BV | F7: Tên hàng hóa - Tiếng việt | G7: Tên thương mại | H7: Đơn vị tính (nhỏ nhất có thể tính tiền của Nhà thầu) | I7: Đơn giá ứng với đơn vị tính | J7: Quy cách đóng gói | K7: Hãng sản xuất | L7: Nước sản xuất | M7: Hãng chủ sở hữu | N7: Nước chủ sở hữu | O7: Mã hàng công ty quản lý | P7: Mã 5086 (nếu có) | Q7: Mã kê khai giá | R7: Giá kê khai (niêm yết báo giá) | S7: Nhóm TBYT | T7: Loại TBYT | U7: Ghi chú | V7: Còn hàng cung cấp không?

Sheet Trang_tính1
C7: Mã Công ty | D7: STT | E7: Lô | F7: Mã BV | G7: Tên hàng hóa - Tiếng việt | H7: Tên thương mại | I7: Đơn vị tính (nhỏ nhất có thể tính tiền của Nhà thầu) | J7: Số lượng yêu cầu | K7: Số lượng yêu cầu | L7: Đơn giá ứng với đơn vị tính | M7: Thành tiền | N7: Quy cách đóng gói | O7: Hãng sản xuất | P7: Nước sản xuất | Q7: Hãng chủ sở hữu | R7: Nước chủ sở hữu | S7: Mã hàng công ty quản lý | T7: Mã 5086 (nếu có) | U7: Mã kê khai giá | V7: Giá kê khai (niêm yết báo giá) | W7: Nhóm TBYT | X7: Loại TBYT | Y7: Ghi chú
C8: SISC | D8: 0 | E8: Lô 1 | F8: HCTM-0001 | G8: Hệ thống định danh và kháng sinh đồ tự động hoặc tương đương | I8: =SUM(M9:M22) -> 8670601875
A9: 33000 | C9: SISC | D9: 1 | E9: Lô 1 | F9: HCTM-0003 | G9: Thẻ định danh gram âm | H9: BD Phoenix™ NID | I9: Thẻ | J9: =VLOOKUP(F9,Sheet2!$C$9:$H$673,6,0) -> 625 | K9: 625 | L9: 128000 | M9: =L9*K9 -> 80000000 | N9: 25 panel/hộp | O9: Becton, Dickinson and Company | P9: USA | Q9: Becton, Dickinson and Company | R9: USA | S9: 448007 | T9: Không có | U9: KKG-0102-00292 | V9: 133590.88 | W9: 1 | X9: B
A10: 33005 | C10: SISC | D10: 2 | E10: Lô 1 | F10: HCTM-0006 | G10: Thẻ định danh gram dương | H10: BD Phoenix™ PID | I10: Thẻ | J10: =VLOOKUP(F10,Sheet2!$C$9:$H$673,6,0) -> 625 | K10: 625 | L10: 128000 | M10: =L10*K10 -> 80000000 | N10: 25 panel/hộp | O10: Becton, Dickinson and Company | P10: USA | Q10: Becton, Dickinson and Company | R10: USA | S10: 448008 | T10: Không có | U10: KKG-0102-00293 | V10: 133590.88 | W10: 1 | X10: B
A11: 33200 | C11: SISC | D11: 3 | E11: Lô 1 | F11: HCTM-0009 | G11: Thẻ định danh nấm men | H11: BD Phoenix™ Yeast ID | I11: Thẻ | J11: =VLOOKUP(F11,Sheet2!$C$9:$H$673,6,0) -> 325 | K11: 325 | L11: 128000 | M11: =L11*K11 -> 41600000 | N11: 25 panel/hộp | O11: Becton, Dickinson and Company | P11: USA | Q11: Becton, Dickinson and Company | R11: USA | S11: 448316 | T11: Không có | U11: KKG-0102-00288 | V11: 133590.88 | W11: 1 | X11: B
A12: 33205 | C12: SISC | D12: 4 | E12: Lô 1 | F12: HCTM-0012 | G12: PANEL PHOENIX PMIC 84 | H12: BD Phoenix™ PMIC- 84 | I12: Thẻ | J12: =VLOOKUP(F12,Sheet2!$C$9:$H$673,6,0) -> 625 | K12: 625 | L12: 116000 | M12: =L12*K12 -> 72500000 | N12: 25 panel/hộp | O12: Becton, Dickinson and Company | P12: USA | Q12: Becton, Dickinson and Company | R12: USA | S12: 448420 | T12: Không có | U12: KKG-0102-00289 | V12: 144422.56 | W12: 1 | X12: B
A13: 33210 | C13: SISC | D13: 5 | E13: Lô 1 | F13: HCTM-0017 | G13: Thẻ kháng sinh đồ vi khuẩn gram âm, khẳng định và phân nhóm CPO | H13: BD Phoenix™ NMIC-500 | I13: Thẻ | J13: =VLOOKUP(F13,Sheet2!$C$9:$H$673,6,0) -> 325 | K13: 325 | L13: 130720 | M13: =L13*K13 -> 42484000 | N13: 25 panel/hộp | O13: Becton, Dickinson and Company (BD) | P13: USA | Q13: Becton, Dickinson and Company (BD) | R13: USA | S13: 449023 | T13: Không có | U13: KKG-0102-00307 | V13: 144422.56 | W13: 1 | X13: B
A14: 33215 | C14: SISC | D14: 6 | E14: Lô 1 | F14: HCTM-0022 | G14: Thẻ định danh, kháng sinh đồ vi khuẩn gram âm và khẳng định CPO | H14: BD Phoenix™ NMIC/ID-504 | I14: Thẻ | J14: =VLOOKUP(F14,Sheet2!$C$9:$H$673,6,0) -> 15625 | K14: 15625 | L14: 226000 | M14: =L14*K14 -> 3531250000 | N14: 25 panel/hộp | O14: Becton, Dickinson and Company | P14: USA | Q14: Becton, Dickinson and Company | R14: USA | S14: 449027 | T14: Không có | U14: KKG-0102-00308 | V14: 234686.68 | W14: 1 | X14: B
A15: 33410 | C15: SISC | D15: 7 | E15: Lô 1 | F15: HCTM-0023 | G15: Canh trường định danh - id broth | H15: BD Phoenix™ ID Broth | I15: Ống | J15: =VLOOKUP(F15,Sheet2!$C$9:$H$673,6,0) -> 26300 | K15: 26300 | L15: 21740 | M15: =L15*K15 -> 571762000 | N15: 4.5mL/ống x 100 ống/hộp | O15: Becton, Dickinson and Company (BD), BD Diagnostic Systems | P15: USA | Q15: Becton, Dickinson and Company (BD) | R15: USA | S15: 246001 | T15: Không có | U15: KKG-0102-00271 | V15: 23468.67 | W15: 1 | X15: A
A16: 33415 | C16: SISC | D16: 8 | E16: Lô 1 | F16: HCTM-0024 | G16: Canh trường làm kháng sinh đồ-ast broth | H16: BD Phoenix™ AST Broth | I16: Ống | J16: =VLOOKUP(F16,Sheet2!$C$9:$H$673,6,0) -> 25400 | K16: 25400 | L16: 25510 | M16: =L16*K16 -> 647954000 | N16: 8 mL/ống x 100 ống/hộp | O16: Becton, Dickinson and Company (BD), BD Diagnostic Systems | P16: USA | Q16: Becton, Dickinson and Company (BD) | R16: USA | S16: 246003 | T16: Không có | U16: KKG-0102-00272 | V16: 27981.87 | W16: 1 | X16: A
A17: 33510 | C17: SISC | D17: 9 | E17: Lô 1 | F17: HCTM-0025 | G17: Chỉ thị kháng sinh đồ ast indicator | H17: BD Phoenix™ AST Indicator Solution | I17: Lọ | J17: =VLOOKUP(F17,Sheet2!$C$9:$H$673,6,0) -> 260 | K17: 260 | L17: 343000 | M17: =L17*K17 -> 89180000 | N17: 6mL/lọ x 10 lọ/hộp | O17: Becton, Dickinson and Company (BD) | P17: USA | Q17: Becton, Dickinson and Company (BD) | R17: USA | S17: 246004 | T17: Không có | U17: KKG-0102-00273 | V17: 356543 | W17: 1 | X17: A
A18: 33515 | C18: SISC | D18: 10 | E18: Lô 1 | F18: HCTM-0027 | G18: BD Phoenix PMIC/ID - 95 | H18: BD Phoenix™ PMIC/ID-95 | I18: Thẻ | J18: =VLOOKUP(F18,Sheet2!$C$9:$H$673,6,0) -> 7875 | K18: 7875 | L18: 226000 | M18: =L18*K18 -> 1779750000 | N18: 25 panel/hộp | O18: Becton, Dickinson and Company | P18: USA | Q18: Becton, Dickinson and Company | R18: USA | S18: 448614 | T18: Không có | U18: KKG-0102-00310 | V18: 234686.68 | W18: 3 | X18: B
A19: 33520 | C19: SISC | D19: 11 | E19: Lô 1 | F19: HCTM-0032 | G19: PANEL PHOENIX SMIC/ID 2 | H19: BD Phoenix™ SMIC/ID-2 | I19: Thẻ | J19: =VLOOKUP(F19,Sheet2!$C$9:$H$673,6,0) -> 325 | K19: 325 | L19: 226000 | M19: =L19*K19 -> 73450000 | N19: 25 panel/hộp | O19: Becton, Dickinson and Company | P19: USA | Q19: Becton, Dickinson and Company | R19: USA | S19: 448851 | T19: Không có | U19: KKG-0102-00291 | V19: 234686.68 | W19: 1 | X19: B
A20: 33525 | C20: SISC | D20: 12 | E20: Lô 1 | F20: HCTM-0034 | G20: Canh trường làm kháng sinh đồ dành cho liên cầu khuẩn ast-s broth | H20: BD Phoenix™ AST-S Broth | I20: Ống | J20: =VLOOKUP(F20,Sheet2!$C$9:$H$673,6,0) -> 320 | K20: 320 | L20: 30000 | M20: =L20*K20 -> 9600000 | N20: 8 mL/ ống x 100 ống/hộp | O20: Becton, Dickinson and Company (BD), BD Diagnostic Systems | P20: USA | Q20: Becton, Dickinson and Company (BD) | R20: USA | S20: 246007 | T20: Không có | U20: KKG-0102-00274 | V20: 30238.47 | W20: 1 | X20: A
... A22: 33535 | C22: SISC | D22: 14 | E22: Lô 1 | F22: HCTM-0036 | G22: Bottle Plastic Bactec Plus Aerob/F 50/Pk | H22: BD BACTEC™ Plus Aerobic/F Culture Vials | I22: Chai | J22: =VLOOKUP(F22,Sheet2!$C$9:$H$673,6,0) -> 15000 | K22: 15000 | L22: 110000 | M22: =L22*K22 -> 1650000000 | N22: 30mL/chai x 50 chai/hộp | O22: Becton Dickinson Caribe, Ltd. | P22: USA | Q22: Becton, Dickinson and Company | R22: USA | S22: 442023 | T22: Không có | U22: KKG-0102-00284 | V22: 125467.1 | W22: 1 | X22: B
A23: B84493 | C23: DKSH | D23: 37 | E23: Lô 2 | F23: HCTM-0037 | G23: Hóa chất cho máy đông máu tự động: STACOMPACT MAX hoặc tương đương | I23: =SUM(M24:M54) -> 8372677885 | J23: =VLOOKUP(F23,Sheet2!$C$9:$H$673,6,0) -> 0 | K23: 0 | M23: =L23*K23 -> 0
A24: B84494 | C24: DKSH | D24: 38 | E24: Lô 2 | F24: HCTM-0038 | G24: Hóa chất xét nghiệm PT (thời gian prothrombin) | H24: 01163 STA - NeoPTimal 5, 6 x 5 ml | I24: Hộp | J24: =VLOOKUP(F24,Sheet2!$C$9:$H$673,6,0) -> 120 | K24: 120 | L24: 2694720 | M24: =L24*K24 -> 323366400 | N24: Hộp/ 6 x 5-ml đông khô + 6 x 5-ml dung dịch đệm | O24: DIAGNOSTICA STAGO S.A.S | P24: Pháp | Q24: DIAGNOSTICA STAGO S.A.S | R24: Pháp | S24: 01163 | T24: không áp dụng | U24: KKG-1018-00756 | V24: 3.000.000 | W24: 1 | X24: C
A25: 33550 | C25: DKSH | D25: 39 | E25: Lô 2 | F25: HCTM-0039 | G25: Hóa chất xét nghiệm APTT hoạt hóa bằng Kaolin, máy đông máu tự động | H25: 00597 STA - C.K. Prest 5 6 x 5 ml | I25: Hộp | J25: =VLOOKUP(F25,Sheet2!$C$9:$H$673,6,0) -> 70 | K25: 70 | L25: 6573844 | M25: =L25*K25 -> 460169080 | N25: Hộp/6 x 5-ml đông khô + 6 x 5-ml dung dịch đệm | O25: DIAGNOSTICA STAGO S.A.S | P25: Pháp | Q25: DIAGNOSTICA STAGO S.A.S | R25: Pháp | S25: 00597 | T25: không áp dụng | U25: KKG-1018-00703 | V25: 7.100.000 | W25: 1 | X25: B
A26: 33555 | C26: DKSH | D26: 40 | E26: Lô 2 | F26: HCTM-0040 | G26: Dung dịch lỏng Canxi Clorua 0.025 M dùng cho các xét nghiệm đông máu | H26: 00367 STA - CaCl2 0.025M 24 x 15 ml | I26: Hộp | J26: =VLOOKUP(F26,Sheet2!$C$9:$H$673,6,0) -> 6 | K26: 6 | L26: 3380607 | M26: =L26*K26 -> 20283642 | N26: Hộp/24 x 15-ml | O26: DIAGNOSTICA STAGO S.A.S | P26: Pháp | Q26: DIAGNOSTICA STAGO S.A.S | R26: Pháp | S26: 00367 | T26: không áp dụng | U26: KKG-1018-00690 | V26: 4.000.000 | W26: 1 | X26: B
A27: 33560 | C27: DKSH | D27: 41 | E27: Lô 2 | F27: HCTM-0041 | G27: Nội kiểm đông máu cho các xét nghiệm đặc biệt như Yếu tố đông máu, PS, PC, ATIII | H27: 00678 STA - System Control N+P 12x2x1 ml | I27: Hộp | J27: =VLOOKUP(F27,Sheet2!$C$9:$H$673,6,0) -> 36 | K27: 36 | L27: 10560847 | M27: =L27*K27 -> 380190492 | N27: Hộp/12 x 2 x 1-ml | O27: DIAGNOSTICA STAGO S.A.S | P27: Pháp | Q27: DIAGNOSTICA STAGO S.A.S | R27: Pháp | S27: 00678 | T27: không áp dụng | U27: KKG-1018-00715 | V27: 14.275.307 | W27: 1 | X27: B
A28: 33565 | C28: DKSH | D28: 42 | E28: Lô 2 | F28: HCTM-0042 | G28: Hóa chất xét nghiệm Fibrinogen | H28: 00673 STA - Liquid Fib 12 x 4 ml | I28: Hộp | J28: =VLOOKUP(F28,Sheet2!$C$9:$H$673,6,0) -> 30 | K28: 30 | L28: 19154879 | M28: =L28*K28 -> 574646370 | N28: Hộp/12 x 4-ml | O28: DIAGNOSTICA STAGO S.A.S | P28: Pháp | Q28: DIAGNOSTICA STAGO S.A.S | R28: Pháp | S28: 00673 | T28: không áp dụng | U28: KKG-1018-00713 | V28: 21.485.000 | W28: 1 | X28: B
A29: 33570 | C29: DKSH | D29: 43 | E29: Lô 2 | F29: HCTM-0043 | G29: Cóng đo từ xét nghiệm đông máu cho máy tự động | H29: 38669 STA CUVETTE 6 x 1000 | I29: Thùng | J29: =VLOOKUP(F29,Sheet2!$C$9:$H$673,6,0) -> 25 | K29: 25 | L29: 57312470 | M29: =L29*K29 -> 1432811750 | N29: Thùng/6 x 1000 cái | O29: DIAGNOSTICA STAGO S.A.S | P29: Pháp | Q29: DIAGNOSTICA STAGO S.A.S | R29: Pháp | S29: 38669 | T29: không áp dụng | U29: KKG-1018-00740 | V29: 73.783.567 | W29: 1 | X29: A
A30: 33575 | C30: DKSH | D30: 44 | E30: Lô 2 | F30: HCTM-0044 | G30: Dung dịch pha loãng mẫu đông máu | H30: 00360 STA - Owren-Koller 24 x 15 ml | I30: Hộp | J30: =VLOOKUP(F30,Sheet2!$C$9:$H$673,6,0) -> 10 | K30: 10 | L30: 3630433 | M30: =L30*K30 -> 36304330 | N30: Hộp/24 x 15-ml | O30: DIAGNOSTICA STAGO S.A.S | P30: Pháp | Q30: DIAGNOSTICA STAGO S.A.S | R30: Pháp | S30: 00360 | T30: không áp dụng | U30: KKG-1018-00689 | V30: 4.451.129 | W30: 1 | X30: B
A31: 33580 | C31: DKSH | D31: 45 | E31: Lô 2 | F31: HCTM-0045 | G31: Hóa chất rửa máy hệ thống đông máu tự động | H31: 00973 STA - Cleaner Solution 6 x 2.5 l | I31: Thùng | J31: =VLOOKUP(F31,Sheet2!$C$9:$H$673,6,0) -> 50 | K31: 50 | L31: 7392593 | M31: =L31*K31 -> 369629650 | N31: Thùng/6 x 2500-ml | O31: Tcoag Ireland Limited | P31: Ireland | Q31: DIAGNOSTICA STAGO S.A.S | R31: Pháp | S31: 00973 | T31: không áp dụng | U31: KKG-1018-00734 | V31: 9.517.794 | W31: 3 | X31: A
A32: 33585 | C32: DKSH | D32: 46 | E32: Lô 2 | F32: HCTM-0046 | G32: Hóa chất rửa kim hệ thống máy đông máu tự động | H32: 00975 STA - Desorb U 24 x 15 ml | I32: Hộp | J32: =VLOOKUP(F32,Sheet2!$C$9:$H$673,6,0) -> 50 | K32: 50 | L32: 7953567 | M32: =L32*K32 -> 397678350 | N32: Hộp/24 x 15-ml | O32: DIAGNOSTICA STAGO S.A.S | P32: Pháp | Q32: DIAGNOSTICA STAGO S.A.S | R32: Pháp | S32: 00975 | T32: không áp dụng | U32: KKG-1018-00735 | V32: 8.300.000 | W32: 1 | X32: A
A33: 33600 | C33: DKSH | D33: 47 | E33: Lô 2 | F33: HCTM-0047 | G33: Ống khói bảo quản lọ hóa chất lọ 4 - 6 ml | H33: 00797 STA - mini Reducer 1 x 100 | I33: Hộp | J33: =VLOOKUP(F33,Sheet2!$C$9:$H$673,6,0) -> 4 | K33: 4 | L33: 4853730 | M33: =L33*K33 -> 19414920 | N33: Hộp/100 cái | O33: TCoag Deutschland GmbH | P33: Đức | Q33: DIAGNOSTICA STAGO S.A.S | R33: Pháp | S33: 00797 | T33: không áp dụng | U33: KKG-1018-00731 | V33: 6.447.727 | W33: 3 | X33: A
A34: 33605 | C34: DKSH | D34: 48 | E34: Lô 2 | F34: HCTM-0048 | G34: Ống khói bảo quản lọ hóa chất lọ 8 - 15 ml | H34: 00801 STA - maxi Reducer 1 x 100 | I34: Hộp | J34: =VLOOKUP(F34,Sheet2!$C$9:$H$673,6,0) -> 4 | K34: 4 | L34: 4853730 | M34: =L34*K34 -> 19414920 | N34: Hộp/100 cái | O34: TCoag Deutschland GmbH | P34: Đức | Q34: DIAGNOSTICA STAGO S.A.S | R34: Pháp | S34: 00801 | T34: không áp dụng | U34: KKG-1018-00732 | V34: 6.447.727 | W34: 3 | X34: A
A35: 33710 | C35: DKSH | D35: 49 | E35: Lô 2 | F35: HCTM-0049 | G35: Thanh khuấy từ cho xét nghiệm aPTT trên máy đông máu tự động | H35: 26674 RED STIRRING BAR 3,2X12,7 | I35: Gói | J35: =VLOOKUP(F35,Sheet2!$C$9:$H$673,6,0) -> 3 | K35: 3 | L35: 816931 | M35: =L35*K35 -> 2450793 | N35: Gói/ 1 cái | O35: DIAGNOSTICA STAGO S.A.S | P35: Pháp | Q35: DIAGNOSTICA STAGO S.A.S | R35: Pháp | S35: 26674 | T35: không áp dụng | U35: KKG-1018-00738 | V35: 981.695 | W35: không phân nhóm | X35: không phân loại
A36: 33715 | C36: DKSH | D36: 50 | E36: Lô 2 | F36: HCTM-0050 | G36: Thanh khuấy từ cho xét nghiệm PT trên máy đông máu tự động | H36: 27425 WHITE STIRRING BAR (2X7) | I36: Gói | J36: =VLOOKUP(F36,Sheet2!$C$9:$H$673,6,0) -> 3 | K36: 3 | L36: 894547 | M36: =L36*K36 -> 2683641 | N36: Gói/ 1 cái | O36: DIAGNOSTICA STAGO S.A.S | P36: Pháp | Q36: DIAGNOSTICA STAGO S.A.S | R36: Pháp | S36: 27425 | T36: không áp dụng | U36: KKG-1018-00739 | V36: 1.074.788 | W36: không phân nhóm | X36: không phân loại
A37: 33800 | C37: DKSH | D37: 51 | E37: Lô 2 | F37: HCTM-0051 | G37: Hóa chất xét nghiệm D-Dimer 2 kháng thể đơn dòng | H37: 00662 STA - Liatest D-Di Plus 6 x 6 ml | I37: Hộp | J37: =VLOOKUP(F37,Sheet2!$C$9:$H$673,6,0) -> 68 | K37: 68 | L37: 50163750 | M37: =L37*K37 -> 3411135000 | N37: Hộp/6 x 5-ml dung dịch đệm + 6 x 6-ml latex | O37: DIAGNOSTICA STAGO S.A.S | P37: Pháp | Q37: DIAGNOSTICA STAGO S.A.S | R37: Pháp | S37: 00662 | T37: không áp dụng | U37: KKG-1018-00709 | V37: 67.848.144 | W37: 1 | X37: B
A38: 33805 | C38: DKSH | D38: 52 | E38: Lô 2 | F38: HCTM-0052 | G38: Chất nội kiểm xét nghiệm D-Dimer | H38: 00526 STA - Liatest Control N+P 12x2x1ml | I38: Hộp | J38: =VLOOKUP(F38,Sheet2!$C$9:$H$673,6,0) -> 27 | K38: 27 | L38: 9311715 | M38: =L38*K38 -> 251416305 | N38: Hộp/12 x 2 x 1-ml | O38: DIAGNOSTICA STAGO S.A.S | P38: Pháp | Q38: DIAGNOSTICA STAGO S.A.S | R38: Pháp | S38: 00526 | T38: không áp dụng | U38: KKG-1018-00695 | V38: 12.587.757 | W38: 1 | X38: B
A39: 33810 | C39: DKSH | D39: 53 | E39: Lô 2 | F39: HCTM-0053 | G39: Xét nghiệm Staclot Protein S | H39: 00746 STA - Staclot Protein S 2 x 1 ml | I39: Hộp | J39: =VLOOKUP(F39,Sheet2!$C$9:$H$673,6,0) -> 8 | K39: 8 | L39: 15627937 | M39: =L39*K39 -> 125023496 | N39: Hộp/2 x 3 x 1-ml | O39: DIAGNOSTICA STAGO S.A.S | P39: Pháp | Q39: DIAGNOSTICA STAGO S.A.S | R39: Pháp | S39: 00746 | T39: không áp dụng | U39: KKG-1018-00727 | V39: 20.723.021 | W39: 1 | X39: B
A40: 33815 | C40: DKSH | D40: 54 | E40: Lô 2 | F40: HCTM-0054 | G40: Huyết tương mẫu người bình thường dạng đông khô dùng cho máy đông máu tự động | H40: 00675 STA - Unicalibrator 6 x 1 ml | I40: Hộp | J40: =VLOOKUP(F40,Sheet2!$C$9:$H$673,6,0) -> 3 | K40: 3 | L40: 3307500 | M40: =L40*K40 -> 9922500 | N40: Hộp/6 x 1-ml | O40: DIAGNOSTICA STAGO S.A.S | P40: Pháp | Q40: DIAGNOSTICA STAGO S.A.S | R40: Pháp | S40: 00675 | T40: không áp dụng | U40: KKG-1018-00714 | V40: 4.605.783 | W40: 1 | X40: B
A41: 33830 | C41: DKSH | D41: 55 | E41: Lô 2 | F41: HCTM-0055 | G41: Hóa chất xét nghiệm AT III | H41: 00596 STA - Stachrom AT III 4 x 3 ml | I41: Hộp | J41: =VLOOKUP(F41,Sheet2!$C$9:$H$673,6,0) -> 3 | K41: 3 | L41: 18522000 | M41: =L41*K41 -> 55566000 | N41: Hộp/4 x 3-ml đông khô + 4 x 3-ml cơ chất + 4 x 3-ml dung dịch đệm | O41: DIAGNOSTICA STAGO S.A.S | P41: Pháp | Q41: DIAGNOSTICA STAGO S.A.S | R41: Pháp | S41: 00596 | T41: không áp dụng | U41: KKG-1018-00702 | V41: 24.560.172 | W41: 1 | X41: B
A42: 33835 | C42: DKSH | D42: 56 | E42: Lô 2 | F42: HCTM-0056 | G42: Hóa chất xét nghiệm Protein C phương pháp so màu | H42: 00671 STA - Stachrom Protein C 6 x 3 ml | I42: Hộp | J42: =VLOOKUP(F42,Sheet2!$C$9:$H$673,6,0) -> 5 | K42: 5 | L42: 61354131 | M42: =L42*K42 -> 306770655 | N42: Hộp/6 x 3-ml chất kích hoạt + 6 x 6-ml cơ chất | O42: DIAGNOSTICA STAGO S.A.S | P42: Pháp | Q42: DIAGNOSTICA STAGO S.A.S | R42: Pháp | S42: 00671 | T42: không áp dụng | U42: KKG-1018-00711 | V42: 81.356.321 | W42: 1 | X42: B
A43: 33860 | C43: DKSH | D43: 57 | E43: Lô 2 | F43: HCTM-0057 | G43: Hóa chất xét nghiệm yếu tố XII Immunodef | H43: 00315 STA - ImmunoDef XII | I43: Hộp | J43: =VLOOKUP(F43,Sheet2!$C$9:$H$673,6,0) -> 1 | K43: 1 | L43: 19077660 | M43: =L43*K43 -> 19077660 | N43: Hộp/6 x 1-ml | O43: DIAGNOSTICA STAGO S.A.S | P43: Pháp | Q43: DIAGNOSTICA STAGO S.A.S | R43: Pháp | S43: 00315 | T43: không áp dụng | U43: KKG-1018-00685 | V43: 24.560.172 | W43: 1 | X43: B
A44: 33865 | C44: DKSH | D44: 58 | E44: Lô 2 | F44: HCTM-0058 | G44: Hỗn hợp huyết tương hiệu chứng cho các xét nghiệm yếu tố | H44: 00539 Pool Norm 12 x 1 ml | I44: Hộp | J44: =VLOOKUP(F44,Sheet2!$C$9:$H$673,6,0) -> 1 | K44: 1 | L44: 5096212 | M44: =L44*K44 -> 5096212 | N44: Hộp/12 x 1-ml | O44: DIAGNOSTICA STAGO S.A.S | P44: Pháp | Q44: DIAGNOSTICA STAGO S.A.S | R44: Pháp | S44: 00539 | T44: không áp dụng | U44: KKG-1018-00696 | V44: 6.447.714 | W44: 1 | X44: B
A45: 33880 | C45: DKSH | D45: 59 | E45: Lô 2 | F45: HCTM-0059 | G45: Hóa chất xét nghiệm thời gian Thrombin | H45: 00611 STA - Thrombin 12 x 2 ml | I45: Hộp | J45: =VLOOKUP(F45,Sheet2!$C$9:$H$673,6,0) -> 5 | K45: 5 | L45: 3087000 | M45: =L45*K45 -> 15435000 | N45: Hộp/12 x 2-ml | O45: DIAGNOSTICA STAGO S.A.S | P45: Pháp | Q45: DIAGNOSTICA STAGO S.A.S | R45: Pháp | S45: 00611 | T45: không áp dụng | U45: KKG-1018-00705 | V45: 4.100.000 | W45: 1 | X45: B
A46: 33885 | C46: DKSH | D46: 60 | E46: Lô 2 | F46: HCTM-0060 | G46: Hóa chất xét nghiệm yếu tố Immunodef XI | H46: 00759 STA - ImmunoDef XI 6 x 1 ml | I46: Hộp | J46: =VLOOKUP(F46,Sheet2!$C$9:$H$673,6,0) -> 1 | K46: 1 | L46: 18522000 | M46: =L46*K46 -> 18522000 | N46: Hộp/6 x 1-ml | O46: DIAGNOSTICA STAGO S.A.S | P46: Pháp | Q46: DIAGNOSTICA STAGO S.A.S | R46: Pháp | S46: 00759 | T46: không áp dụng | U46: KKG-1018-00729 | V46: 24.782.940 | W46: 1 | X46: B
A47: 34200 | C47: DKSH | D47: 61 | E47: Lô 2 | F47: HCTM-0061 | G47: Hóa chất xét nghiệm yếu tố IX Immunodef | H47: 00734 STA - ImmunoDef IX 6 x 1 ml | I47: Hộp | J47: =VLOOKUP(F47,Sheet2!$C$9:$H$673,6,0) -> 1 | K47: 1 | L47: 8428392 | M47: =L47*K47 -> 8428392 | N47: Hộp/6 x 1-ml | O47: DIAGNOSTICA STAGO S.A.S | P47: Pháp | Q47: DIAGNOSTICA STAGO S.A.S | R47: Pháp | S47: 00734 | T47: không áp dụng | U47: KKG-1018-00721 | V47: 10.131.713 | W47: 1 | X47: B
A48: 34205 | C48: DKSH | D48: 62 | E48: Lô 2 | F48: HCTM-0062 | G48: Hóa chất xét nghiệm yếu tố VIII Immunodef | H48: 00728 STA - ImmunoDef VIII 6 x 1 ml | I48: Hộp | J48: =VLOOKUP(F48,Sheet2!$C$9:$H$673,6,0) -> 5 | K48: 5 | L48: 8683510 | M48: =L48*K48 -> 43417550 | N48: Hộp/6 x 1-ml | O48: DIAGNOSTICA STAGO S.A.S | P48: Pháp | Q48: DIAGNOSTICA STAGO S.A.S | R48: Pháp | S48: 00728 | T48: không áp dụng | U48: KKG-1018-00720 | V48: 10.438.019 | W48: 1 | X48: B
... A54: 34245 | C54: DKSH | D54: 68 | E54: Lô 2 | F54: HCTM-0068 | G54: Cúp chiết hóa chất dông máu | H54: 00802 STA - Microcups 1 x 100 | I54: Hộp | J54: =VLOOKUP(F54,Sheet2!$C$9:$H$673,6,0) -> 6 | K54: 6 | L54: 4341120 | M54: =L54*K54 -> 26046720 | N54: Hộp/100 cái | O54: ENTREPRISE ADAPTEE - ATELIER de TISSONVILLIERS | P54: Pháp | Q54: DIAGNOSTICA STAGO S.A.S | R54: Pháp | S54: 00802 | T54: không áp dụng | U54: KKG-1018-00733 | V54: 5.757.180 | W54: 1 | X54: A
A55: 34249 | C55: DKSH | D55: 69 | E55: Lô 3 | F55: HCTM-0069 | G55: HÓA CHẤT XÉT NGHIỆM ĐIỆN DI TRÊN MÁY XÉT NGHIỆM ĐIỆN DI 8 ĐẦU DI hoặc tương đương | I55: =SUM(M56:M77) -> 7196717662 | J55: =VLOOKUP(F55,Sheet2!$C$9:$H$673,6,0) -> 0 | K55: 0 | M55: =L55*K55 -> 0
A56: 34250 | C56: DKSH | D56: 70 | E56: Lô 3 | F56: HCTM-0070 | G56: Cốc thuốc thử phản ứng dành cho 8 đầu di | H56: 2582 CAPI 3 REAGENT CUPS (24 x 14) | I56: Hộp | J56: =VLOOKUP(F56,Sheet2!$C$9:$H$673,6,0) -> 30 | K56: 30 | L56: 3685500 | M56: =L56*K56 -> 110565000 | N56: Hộp/24 x 14 dãy | O56: SEBIA | P56: Pháp | Q56: SEBIA | R56: Pháp | S56: 2582 | T56: không áp dụng | U56: KKG-1018-00509 | V56: 4.475.254 | W56: 3 | X56: A
A57: 34255 | C57: DKSH | D57: 71 | E57: Lô 3 | F57: HCTM-0071 | G57: Dung dịch rửa điện di mao quản 8/12 đầu di | H57: 2062 CAPILLARYS 3 WASH SOLUTION (1) | I57: Hộp | J57: =VLOOKUP(F57,Sheet2!$C$9:$H$673,6,0) -> 80 | K57: 80 | L57: 1134000 | M57: =L57*K57 -> 90720000 | N57: Hộp/1 x 75 ml | O57: SEBIA | P57: Pháp | Q57: SEBIA | R57: Pháp | S57: 2062 | T57: không áp dụng | U57: KKG-1018-00504 | V57: 1.376.944 | W57: 3 | X57: A
A58: 34259 | C58: DKSH | D58: 72 | E58: Lô 3 | F58: HCTM-0072 | G58: Dung dịch khử khuẩn | H58: 2059 CLEAN PROTECT | I58: Hộp | J58: =VLOOKUP(F58,Sheet2!$C$9:$H$673,6,0) -> 8 | K58: 8 | L58: 2772000 | M58: =L58*K58 -> 22176000 | N58: Hộp/1 x 5 ml | O58: SEBIA | P58: Pháp | Q58: SEBIA | R58: Pháp | S58: 2059 | T58: không áp dụng | U58: KKG-1018-00502 | V58: 3.366.038 | W58: 3 | X58: A
A59: 34430 | C59: DKSH | D59: 73 | E59: Lô 3 | F59: HCTM-0073 | G59: Dung dịch rửa kim | H59: 2060 CAPILLARYS 3 CAPICLEAN | I59: Hộp | J59: =VLOOKUP(F59,Sheet2!$C$9:$H$673,6,0) -> 10 | K59: 10 | L59: 3654000 | M59: =L59*K59 -> 36540000 | N59: Hộp/1 x 25 ml | O59: SEBIA | P59: Pháp | Q59: SEBIA | R59: Pháp | S59: 2060 | T59: không áp dụng | U59: KKG-1018-00503 | V59: 4.437.038 | W59: 3 | X59: A
A60: 34435 | C60: DKSH | D60: 74 | E60: Lô 3 | F60: HCTM-0074 | G60: Ống chiết QC | H60: 9202 TUBES AND CAPS FOR CONTROLS (20) | I60: Hộp | J60: =VLOOKUP(F60,Sheet2!$C$9:$H$673,6,0) -> 20 | K60: 20 | L60: 2079000 | M60: =L60*K60 -> 41580000 | N60: Hộp/20 ống | O60: SEBIA | P60: Pháp | Q60: SEBIA | R60: Pháp | S60: 9202 | T60: không áp dụng | U60: KKG-1018-00515 | V60: 2.644.716 | W60: 3 | X60: A
A61: 34439 | C61: DKSH | D61: 75 | E61: Lô 3 | F61: HCTM-0075 | G61: Khay thải | H61: 2581 2581 CAPI 3 BINS FOR USED REAGENT CUPS | I61: Hộp | J61: =VLOOKUP(F61,Sheet2!$C$9:$H$673,6,0) -> 7 | K61: 7 | L61: 1449000 | M61: =L61*K61 -> 10143000 | N61: Hộp/5 cái | O61: SEBIA | P61: Pháp | Q61: SEBIA | R61: Pháp | S61: 2581 | T61: không áp dụng | U61: KKG-1018-00508 | V61: 1.843.284 | W61: 3 | X61: A
A62: A32937 | C62: DKSH | D62: 76 | E62: Lô 3 | F62: HCTM-0076 | G62: Hóa chất điện di mao quản Hb (cho 8/12 đầu di) | H62: 2507 CAPI 3 HEMOGLOBIN(E) | I62: Hộp | J62: =VLOOKUP(F62,Sheet2!$C$9:$H$673,6,0) -> 30 | K62: 30 | L62: 42084000 | M62: =L62*K62 -> 1262520000 | N62: Hộp/2 x 700 ml | O62: SEBIA | P62: Pháp | Q62: SEBIA | R62: Pháp | S62: 2507 | T62: không áp dụng | U62: KKG-1018-00532 | V62: 51.102.056 | W62: 3 | X62: B
A63: 34445 | C63: DKSH | D63: 77 | E63: Lô 3 | F63: HCTM-0077 | G63: Hóa chất kiểm chuẩn HbA2 bình thường | H63: 4778 NORMAL Hb A2 CONTROL (5) | I63: Hộp | J63: =VLOOKUP(F63,Sheet2!$C$9:$H$673,6,0) -> 14 | K63: 14 | L63: 6153000 | M63: =L63*K63 -> 86142000 | N63: Hộp/5 x 1.6 ml | O63: SEBIA | P63: Pháp | Q63: SEBIA | R63: Pháp | S63: 4778 | T63: không áp dụng | U63: KKG-1018-00541 | V63: 15.450.000 | W63: 3 | X63: B
A64: 34449 | C64: DKSH | D64: 78 | E64: Lô 3 | F64: HCTM-0078 | G64: Hóa chất điện di mao quản Protein (cho 8/12 đầu di) | H64: 2503 CAPI 3 PROTEIN(E) 6 | I64: Hộp | J64: =VLOOKUP(F64,Sheet2!$C$9:$H$673,6,0) -> 50 | K64: 50 | L64: 40110052 | M64: =L64*K64 -> 2005502600 | N64: Hộp/3 x 700 ml | O64: SEBIA | P64: Pháp | Q64: SEBIA | R64: Pháp | S64: 2503 | T64: không áp dụng | U64: KKG-1018-00531 | V64: 46.358.944 | W64: 3 | X64: B
A65: 34470 | C65: DKSH | D65: 79 | E65: Lô 3 | F65: HCTM-0079 | G65: Hóa chất kiểm chuẩn điện di Protein mức bình thường | H65: 4785 NORMAL CONTROL (5) | I65: Hộp | J65: =VLOOKUP(F65,Sheet2!$C$9:$H$673,6,0) -> 13 | K65: 13 | L65: 2278500 | M65: =L65*K65 -> 29620500 | N65: Hộp/5 x 1 ml | O65: SEBIA | P65: Pháp | Q65: SEBIA | R65: Pháp | S65: 4785 | T65: không áp dụng | U65: KKG-1018-00543 | V65: 2.766.750 | W65: 3 | X65: B
A66: 34475 | C66: DKSH | D66: 80 | E66: Lô 3 | F66: HCTM-0080 | G66: Hóa chất kiểm chuẩn HbA2 bệnh lý | H66: 4779 PATHOLOGICAL Hb A2 CONTROL | I66: Hộp | J66: =VLOOKUP(F66,Sheet2!$C$9:$H$673,6,0) -> 2 | K66: 2 | L66: 3874500 | M66: =L66*K66 -> 7749000 | N66: Hộp/1 x 1.6 ml | O66: SEBIA | P66: Pháp | Q66: SEBIA | R66: Pháp | S66: 4779 | T66: không áp dụng | U66: KKG-1018-00542 | V66: 5.600.000 | W66: 3 | X66: B
A67: 34479 | C67: DKSH | D67: 81 | E67: Lô 3 | F67: HCTM-0081 | G67: Hóa chất kiểm chuẩn điện di Protein mức tăng Gamma | H67: 4787 HYPERGAMMA CONTROL (5) | I67: Hộp | J67: =VLOOKUP(F67,Sheet2!$C$9:$H$673,6,0) -> 1 | K67: 1 | L67: 6153000 | M67: =L67*K67 -> 6153000 | N67: Hộp/5 x 1 ml | O67: SEBIA | P67: Pháp | Q67: SEBIA | R67: Pháp | S67: 4787 | T67: không áp dụng | U67: KKG-1018-00544 | V67: 7.471.538 | W67: 3 | X67: B
... A75: 386357 | C75: DKSH | D75: 89 | E75: Lô 3 | F75: HCTM-0089 | G75: Ống xử lý mẫu nước tiểu | H75: 9200 DIALYSIS SYSTEM (24) | I75: Hộp | J75: =VLOOKUP(F75,Sheet2!$C$9:$H$673,6,0) -> 1 | K75: 1 | L75: 12915000 | M75: =L75*K75 -> 12915000 | N75: Hộp/24 ống | O75: SEBIA | P75: Pháp | Q75: SEBIA | R75: Pháp | S75: 9200 | T75: không áp dụng | U75: KKG-1018-00514 | V75: 15.682.494 | W75: 3 | X75: A
A76: 386358 | C76: DKSH | D76: 90 | E76: Lô 3 | F76: HCTM-0090 | G76: Dung dịch chuẩn bị mẫu nước tiểu | H76: 2513 CAPI 3 URINE | I76: Hộp | J76: =VLOOKUP(F76,Sheet2!$C$9:$H$673,6,0) -> 1 | K76: 1 | L76: 6486942 | M76: =L76*K76 -> 6486942 | N76: Hộp/1 x 480 ml | O76: SEBIA | P76: Pháp | Q76: SEBIA | R76: Pháp | S76: 2513 | T76: không áp dụng | U76: đang điều chỉnh | V76: đang điều chỉnh | W76: 3 | X76: A | Y76: Không có sẵn và chưa có giá kê khai, để xuất bỏ ra
A77: 387620 | C77: DKSH | D77: 91 | E77: Lô 3 | F77: HCTM-0091 | G77: Cốc thuốc thử dành cho 2 đầu di | H77: MINICAP REAGENTS CUPS (125x3) | I77: Hộp | J77: =VLOOKUP(F77,Sheet2!$C$9:$H$673,6,0) -> 10 | K77: 10 | L77: 6949982 | M77: =L77*K77 -> 69499820 | N77: Hộp/ 125 x 3 cái | O77: SEBIA | P77: Pháp | Q77: SEBIA | R77: Pháp | S77: 2281 | T77: không áp dụng | U77: KKG-1018-00506 | V77: 8.032.503 | W77: 3 | X77: A
A78: 387647 | C78: KIẾN ĐỨC | D78: 92 | E78: Lô 4 | F78: HCTM-0092 | G78: Hoá chất xét nghiệm miễn dịch máy ROCHE hoặc tương đương | I78: =SUM(M79:M264) -> 1.4427174e+10 | J78: =VLOOKUP(F78,Sheet2!$C$9:$H$673,6,0) -> 0 | K78: 0 | M78: =L78*K78 -> 0
A79: 387687 | C79: KIẾN ĐỨC | D79: 93 | E79: Lô 4 | F79: HCTM-0093 | G79: Procalcitonin | H79: 08828644190 Elecsys BRAHMS PCT 100T | I79: Hộp | J79: =VLOOKUP(F79,Sheet2!$C$9:$H$673,6,0) -> 50 | K79: 50 | L79: 18648000 | M79: =L79*K79 -> 932400000 | N79: Hộp/ 100 tests | O79: Roche Diagnostics GmbH, Germany | P79: Germany | Q79: Roche Diagnostics GmbH, Germany | R79: Germany | S79: 08828644190 | U79: KKG-0059-01007 | W79: 1
A80: 387688 | C80: KIẾN ĐỨC | D80: 94 | E80: Lô 4 | F80: HCTM-0094 | G80: TSH | H80: 08429324190 TSH Elecsys cobas e 200 V2 | I80: Hộp | J80: =VLOOKUP(F80,Sheet2!$C$9:$H$673,6,0) -> 70 | K80: 70 | L80: 5128200 | M80: =L80*K80 -> 358974000 | N80: Hộp/ 200 tests | O80: Roche Diagnostics GmbH, Germany | P80: Germany | Q80: Roche Diagnostics GmbH, Germany | R80: Germany | S80: 08429324190 | U80: KKG-0059-00940 | W80: 1
A81: 387992 | C81: KIẾN ĐỨC | D81: 95 | E81: Lô 4 | F81: HCTM-0095 | G81: Chất chuẩn TSH | H81: 08443459190 TSH CS Elecsys V3 | I81: Hộp | J81: =VLOOKUP(F81,Sheet2!$C$9:$H$673,6,0) -> 8 | K81: 8 | L81: 1165500 | M81: =L81*K81 -> 9324000 | N81: Hộp/ 4 x 1.3 ml | O81: Roche Diagnostics GmbH, Germany | P81: Germany | Q81: Roche Diagnostics GmbH, Germany | R81: Germany | S81: 08443459190 | U81: KKG-0059-00938 | W81: 1
A82: 387993 | C82: KIẾN ĐỨC | D82: 96 | E82: Lô 4 | F82: HCTM-0096 | G82: T3 | H82: 09007725190 Elecsys T3 200T | I82: Hộp | J82: =VLOOKUP(F82,Sheet2!$C$9:$H$673,6,0) -> 40 | K82: 40 | L82: 5128200 | M82: =L82*K82 -> 205128000 | N82: Hộp/ 200 tests | O82: Roche Diagnostics GmbH, Germany | P82: Germany | Q82: Roche Diagnostics GmbH, Germany | R82: Germany | S82: 09007725190 | U82: KKG-0059-01047 | W82: 1
A83: 387999 | C83: KIẾN ĐỨC | D83: 97 | E83: Lô 4 | F83: HCTM-0097 | G83: Chất chuẩn T3 | H83: 11731548122 T3 CS ELECSYS KIT | I83: Hộp | J83: =VLOOKUP(F83,Sheet2!$C$9:$H$673,6,0) -> 6 | K83: 6 | L83: 1165500 | M83: =L83*K83 -> 6993000 | N83: Hộp/ 4 x 1ml | O83: Roche Diagnostics GmbH, Germany | P83: Germany | Q83: Roche Diagnostics GmbH, Germany | R83: Germany | S83: 11731548122 | U83: KKG-0059-02129 | W83: 1
A84: 973243 | C84: KIẾN ĐỨC | D84: 98 | E84: Lô 4 | F84: HCTM-0098 | G84: Thuốc thử FT3 | H84: 06437206190 FT3 G3 cobas e 200T | I84: Hộp | J84: =VLOOKUP(F84,Sheet2!$C$9:$H$673,6,0) -> 40 | K84: 40 | L84: 5128200 | M84: =L84*K84 -> 205128000 | N84: Hộp/ 200 tests | O84: Roche Diagnostics GmbH, Germany | P84: Germany | Q84: Roche Diagnostics GmbH, Germany | R84: Germany | S84: 06437206190 | U84: KKG-0059-00813 | W84: 1
A85: 973244 | C85: KIẾN ĐỨC | D85: 99 | E85: Lô 4 | F85: HCTM-0099 | G85: Hóa chất chuẩn FT3 | H85: 06437222190 FT3 G3 CS Elecsys | I85: Hộp | J85: =VLOOKUP(F85,Sheet2!$C$9:$H$673,6,0) -> 8 | K85: 8 | L85: 1165500 | M85: =L85*K85 -> 9324000 | N85: Hộp/ 4 x 1ml | O85: Roche Diagnostics GmbH, Germany | P85: Germany | Q85: Roche Diagnostics GmbH, Germany | R85: Germany | S85: 06437222190 | U85: KKG-0059-02126 | W85: 1
A86: A10826 | C86: KIẾN ĐỨC | D86: 100 | E86: Lô 4 | F86: HCTM-0100 | G86: T4 | H86: 09007741190 Elecsys T4 200T | I86: Hộp | J86: =VLOOKUP(F86,Sheet2!$C$9:$H$673,6,0) -> 7 | K86: 7 | L86: 5128200 | M86: =L86*K86 -> 35897400 | N86: Hộp/ 200 tests | O86: Roche Diagnostics GmbH, Germany | P86: Germany | Q86: Roche Diagnostics GmbH, Germany | R86: Germany | S86: 09007741190 | U86: KKG-0059-01049 | W86: 1
A87: A10827 | C87: KIẾN ĐỨC | D87: 101 | E87: Lô 4 | F87: HCTM-0101 | G87: Chất chuẩn T4 | H87: 12017717122 T4 CS GEN.2 ELEC | I87: Hộp | J87: =VLOOKUP(F87,Sheet2!$C$9:$H$673,6,0) -> 4 | K87: 4 | L87: 1165500 | M87: =L87*K87 -> 4662000 | N87: Hộp/ 4 x 1ml | O87: Roche Diagnostics GmbH, Germany | P87: Germany | Q87: Roche Diagnostics GmbH, Germany | R87: Germany | S87: 12017717122 | U87: KKG-0059-02368 | W87: 1
A88: A12985 | C88: KIẾN ĐỨC | D88: 102 | E88: Lô 4 | F88: HCTM-0102 | G88: Thuốc thử FT4 | H88: 07976836190 FT4 G3 Elecsys cobas e 200 | I88: Hộp | J88: =VLOOKUP(F88,Sheet2!$C$9:$H$673,6,0) -> 70 | K88: 70 | L88: 5384610 | M88: =L88*K88 -> 376922700 | N88: Hộp/ 200 tests | O88: Roche Diagnostics GmbH, Germany | P88: Germany | Q88: Roche Diagnostics GmbH, Germany | R88: Germany | S88: 07976836190 | U88: KKG-0059-01730 | W88: 1
A89: A18227 | C89: KIẾN ĐỨC | D89: 103 | E89: Lô 4 | F89: HCTM-0103 | G89: Hóa chất chuẩn FT4 | H89: 07976879190 FT4 G3 CS Elecsys | I89: Hộp | J89: =VLOOKUP(F89,Sheet2!$C$9:$H$673,6,0) -> 8 | K89: 8 | L89: 1165500 | M89: =L89*K89 -> 9324000 | N89: Hộp/ 4 x 1ml | O89: Roche Diagnostics GmbH, Germany | P89: Germany | Q89: Roche Diagnostics GmbH, Germany | R89: Germany | S89: 07976879190 | U89: KKG-0059-01732 | W89: 1
A90: A13422 | C90: KIẾN ĐỨC | D90: 104 | E90: Lô 4 | F90: HCTM-0104 | G90: Chất nội kiểm cho các xét nghiệm dịch miễn điện hóa phát quang | H90: 11731416190 PRECICTRL UNIVERSAL ELEC | I90: Hộp | J90: =VLOOKUP(F90,Sheet2!$C$9:$H$673,6,0) -> 30 | K90: 30 | L90: 1398600 | M90: =L90*K90 -> 41958000 | N90: Hộp/ 4x3ml | O90: Roche Diagnostics GmbH, Germany | P90: Germany | Q90: Roche Diagnostics GmbH, Germany | R90: Germany | S90: 11731416190 | U90: KKG-0059-01807 | W90: 1
A91: A13430 | C91: KIẾN ĐỨC | D91: 105 | E91: Lô 4 | F91: HCTM-0105 | G91: Dung dịch hệ thống dùng để rửa bộ phát hiện của máy phân tích xét nghiệm miễn dịch | H91: 11662970122 ELEC CLEAN-CELL | I91: Hộp | J91: =VLOOKUP(F91,Sheet2!$C$9:$H$673,6,0) -> 35 | K91: 35 | L91: 1630535 | M91: =L91*K91 -> 57068725 | N91: Hộp/ 6 x 380ml | O91: Roche Diagnostics GmbH, Germany | P91: Germany | Q91: Roche Diagnostics GmbH, Germany | R91: Germany | S91: 11662970122 | U91: KKG-0059-01958 | W91: 1
A92: A16364 | C92: KIẾN ĐỨC | D92: 106 | E92: Lô 4 | F92: HCTM-0106 | G92: Dung dịch hệ thống dùng để phát tín hiệu điện hóa cho máy phân tích xét nghiệm miễn dịch. | H92: 11662988122 PROCELL ELEC 6X380 | I92: Hộp | J92: =VLOOKUP(F92,Sheet2!$C$9:$H$673,6,0) -> 35 | K92: 35 | L92: 1630535 | M92: =L92*K92 -> 57068725 | N92: Hộp/ 6 x 380ml | O92: Roche Diagnostics GmbH, Germany | P92: Germany | Q92: Roche Diagnostics GmbH, Germany | R92: Germany | S92: 11662988122 | U92: KKG-0059-01954 | W92: 1
A93: A16365 | C93: KIẾN ĐỨC | D93: 107 | E93: Lô 4 | F93: HCTM-0107 | G93: Chất phụ gia cho bình chứa nước cất cho máy phân tích miễn dịch | H93: 11930346122 SYS WASH ELECSYS | I93: Hộp | J93: =VLOOKUP(F93,Sheet2!$C$9:$H$673,6,0) -> 35 | K93: 35 | L93: 1304195 | M93: =L93*K93 -> 45646825 | N93: Hộp/ 500ml | O93: Roche Diagnostics GmbH, Germany | P93: Germany | Q93: Roche Diagnostics GmbH, Germany | R93: Germany | S93: 11930346122 | U93: KKG-0059-02508 | W93: 1
A94: A16369 | C94: KIẾN ĐỨC | D94: 108 | E94: Lô 4 | F94: HCTM-0108 | G94: Dung dịch rửa dùng để vệ sinh máy phân tích miễn dịch | H94: 11298500316 ISE CLEANING SOL. | I94: Hộp | J94: =VLOOKUP(F94,Sheet2!$C$9:$H$673,6,0) -> 5 | K94: 5 | L94: 1630535 | M94: =L94*K94 -> 8152675 | N94: Hộp/ 5x100ml | O94: Roche Diagnostics GmbH, Germany | P94: Germany | Q94: Roche Diagnostics GmbH, Germany | R94: Germany | S94: 11298500316 | U94: KKG-0059-02516 | W94: 1
A95: A16370 | C95: KIẾN ĐỨC | D95: 109 | E95: Lô 4 | F95: HCTM-0109 | G95: Cốc chứa mẫu dùng trên hệ thống máy miễn dịch điện hóa phát quang | H95: 11706802001 ASSAY CUP ELEC 2010 | I95: Hộp | J95: =VLOOKUP(F95,Sheet2!$C$9:$H$673,6,0) -> 9 | K95: 9 | L95: 1526805 | M95: =L95*K95 -> 13741245 | N95: Hộp/ 60 x 60 cup | O95: Flex Precision Plastics Solutions (Switzerland) AG, Switzerland / Balda Medical GmbH, Germany / Nypro Healthcare GmbH, Germany | P95: Switzerland / Germany / Germany | Q95: Flex Precision Plastics Solutions (Switzerland) AG, Switzerland / Balda Medical GmbH, Germany / Nypro Healthcare GmbH, Germany | R95: Switzerland / Germany / Germany | S95: 11706802001 | U95: KKG-0059-02510 | W95: 1
A96: A16371 | C96: KIẾN ĐỨC | D96: 110 | E96: Lô 4 | F96: HCTM-0110 | G96: Đầu côn hút mẫu thực hiện trên máy miễn dịch | H96: 11706799001 ASSAY TIP ELEC | I96: Hộp | J96: =VLOOKUP(F96,Sheet2!$C$9:$H$673,6,0) -> 9 | K96: 9 | L96: 1526805 | M96: =L96*K96 -> 13741245 | N96: Hộp/ 30x120 pcs | O96: Flex Precision Plastics Solutions (Switzerland) AG, Switzerland / Balda Medical GmbH, Germany / Nypro Healthcare GmbH, Germany | P96: Switzerland / Germany / Germany | Q96: Flex Precision Plastics Solutions (Switzerland) AG, Switzerland / Balda Medical GmbH, Germany / Nypro Healthcare GmbH, Germany | R96: Switzerland / Germany / Germany | S96: 11706799001 | U96: KKG-0059-02509 | W96: 1
A97: A16953 | C97: KIẾN ĐỨC | D97: 111 | E97: Lô 4 | F97: HCTM-0111 | G97: Cốc dùng để chứa mẫu, QC, chất hiệu chuẩn cho hệ thống máy sinh hóa, miễn dịch | H97: 10394246001 COBAS SAMPLE CUP 5000PCS | I97: Hộp | J97: =VLOOKUP(F97,Sheet2!$C$9:$H$673,6,0) -> 17 | K97: 17 | L97: 1526805 | M97: =L97*K97 -> 25955685 | N97: Hộp/ 5000 cups | O97: Greiner Bio-One GmbH, Austria | P97: Austria | Q97: Greiner Bio-One GmbH, Austria | R97: Austria | S97: 10394246001 | U97: KKG-0059-01964 | W97: 1
A98: A16972 | C98: KIẾN ĐỨC | D98: 112 | E98: Lô 4 | F98: HCTM-0112 | G98: Định lượng kháng nguyên bề mặt viêm gan B trong huyết thanh và huyết tương người đã xác định dương tính HBsAg | H98: 08814899190 HBSAG G2 QUANT G2 E 100 V2 | I98: Hộp | J98: =VLOOKUP(F98,Sheet2!$C$9:$H$673,6,0) -> 11 | K98: 11 | L98: 21892500 | M98: =L98*K98 -> 240817500 | N98: Hộp/ 100tests | O98: Roche Diagnostics GmbH, Germany | P98: Germany | Q98: Roche Diagnostics GmbH, Germany | R98: Germany | S98: 08814899190 | U98: KKG-0059-01851 | W98: 1
A99: A24291 | C99: KIẾN ĐỨC | D99: 113 | E99: Lô 4 | F99: HCTM-0113 | G99: Vật liệu kiểm soát xét nghiệm HBsAg | H99: 04687876190 PRECICTRL HBSAG 2 ELEC | I99: Hộp | J99: =VLOOKUP(F99,Sheet2!$C$9:$H$673,6,0) -> 5 | K99: 5 | L99: 1631700 | M99: =L99*K99 -> 8158500 | N99: Hộp/ 16x1.3ml | O99: Roche Diagnostics GmbH, Germany | P99: Germany | Q99: Roche Diagnostics GmbH, Germany | R99: Germany | S99: 04687876190 | U99: KKG-0059-01801 | W99: 1
A100: A24292 | C100: KIẾN ĐỨC | D100: 114 | E100: Lô 4 | F100: HCTM-0114 | G100: Thuốc thử ACTH | H100: 03255751190 ELECSYS ACTH | I100: Hộp | J100: =VLOOKUP(F100,Sheet2!$C$9:$H$673,6,0) -> 9 | K100: 9 | L100: 7342650 | M100: =L100*K100 -> 66083850 | N100: Hộp/ 100 tests | O100: Roche Diagnostics GmbH, Germany | P100: Germany | Q100: Roche Diagnostics GmbH, Germany | R100: Germany | S100: 03255751190 | U100: KKG-0059-01191 | W100: 1
A101: A24294 | C101: KIẾN ĐỨC | D101: 115 | E101: Lô 4 | F101: HCTM-0115 | G101: Chất chuẩn ACTH | H101: 03255760190 ELECSYS ACTH CALS | I101: Hộp | J101: =VLOOKUP(F101,Sheet2!$C$9:$H$673,6,0) -> 7 | K101: 7 | L101: 2913750 | M101: =L101*K101 -> 20396250 | N101: Hộp/ 4x1ml | O101: Roche Diagnostics GmbH, Germany | P101: Germany | Q101: Roche Diagnostics GmbH, Germany | R101: Germany | S101: 03255760190 | U101: KKG-0059-01196 | W101: 1
A102: A24296 | C102: KIẾN ĐỨC | D102: 116 | E102: Lô 4 | F102: HCTM-0116 | G102: Thuốc thử AFP | H102: 04481798190 AFP RP GEN1.1ELEC | I102: Hộp | J102: =VLOOKUP(F102,Sheet2!$C$9:$H$673,6,0) -> 52 | K102: 52 | L102: 3776220 | M102: =L102*K102 -> 196363440 | N102: Hộp/ 100 tests | O102: Roche Diagnostics GmbH, Germany | P102: Germany | Q102: Roche Diagnostics GmbH, Germany | R102: Germany | S102: 04481798190 | U102: KKG-0059-01136 | W102: 1
A103: A24297 | C103: KIẾN ĐỨC | D103: 117 | E103: Lô 4 | F103: HCTM-0117 | G103: Chất chuẩn AFP | H103: 04487761190 AFP CS GEN2.1 ELEC | I103: Hộp | J103: =VLOOKUP(F103,Sheet2!$C$9:$H$673,6,0) -> 8 | K103: 8 | L103: 1165500 | M103: =L103*K103 -> 9324000 | N103: Hộp/ 4x1ml | O103: Roche Diagnostics GmbH, Germany | P103: Germany | Q103: Roche Diagnostics GmbH, Germany | R103: Germany | S103: 04487761190 | U103: KKG-0059-01216 | W103: 1
A104: A24298 | C104: KIẾN ĐỨC | D104: 118 | E104: Lô 4 | F104: HCTM-0118 | G104: Anti-CCP | H104: 05031656190 ANTI CCP | I104: Hộp | J104: =VLOOKUP(F104,Sheet2!$C$9:$H$673,6,0) -> 12 | K104: 12 | L104: 13986000 | M104: =L104*K104 -> 167832000 | N104: Hộp/ 100 tests | O104: Roche Diagnostics GmbH, Germany | P104: Germany | Q104: Roche Diagnostics GmbH, Germany | R104: Germany | S104: 05031656190 | U104: KKG-0059-01141 | W104: 1
A105: A31588 | C105: KIẾN ĐỨC | D105: 119 | E105: Lô 4 | F105: HCTM-0119 | G105: Chất nội kiểm anti-CCP | H105: 05031664190 ELECSYS PRECICONTROL ANTI-CC | I105: Hộp | J105: =VLOOKUP(F105,Sheet2!$C$9:$H$673,6,0) -> 5 | K105: 5 | L105: 4662000 | M105: =L105*K105 -> 23310000 | N105: 4 x 2.0 mL/hộp | O105: Roche Diagnostics GmbH, Germany | P105: Germany | Q105: Roche Diagnostics GmbH, Germany | R105: Germany | S105: 05031664190 | U105: KKG-0059-01195 | W105: 1
A106: A31589 | C106: KIẾN ĐỨC | D106: 120 | E106: Lô 4 | F106: HCTM-0120 | G106: Anti-HAV | H106: 08086630190 Elecsys Anti-HAV II 100T | I106: Hộp | J106: =VLOOKUP(F106,Sheet2!$C$9:$H$673,6,0) -> 15 | K106: 15 | L106: 6293700 | M106: =L106*K106 -> 94405500 | N106: Hộp/ 100 tests | O106: Roche Diagnostics GmbH, Germany | P106: Germany | Q106: Roche Diagnostics GmbH, Germany | R106: Germany | S106: 08086630190 | U106: KKG-0059-01837 | W106: 1
A107: A31590 | C107: KIẾN ĐỨC | D107: 121 | E107: Lô 4 | F107: HCTM-0121 | G107: Anti-HAV IgM | H107: 11820591122 ANTI-HAV IGM ELEC | I107: Hộp | J107: =VLOOKUP(F107,Sheet2!$C$9:$H$673,6,0) -> 15 | K107: 15 | L107: 7342650 | M107: =L107*K107 -> 110139750 | N107: Hộp/ 100 tests | O107: Roche Diagnostics GmbH, Germany | P107: Germany | Q107: Roche Diagnostics GmbH, Germany | R107: Germany | S107: 11820591122 | U107: KKG-0059-01774 | W107: 1
A108: A32493 | C108: KIẾN ĐỨC | D108: 122 | E108: Lô 4 | F108: HCTM-0122 | G108: Chất nội kiểm anti HAV IgM | H108: 11876368122 PRECTL ANTIHAV IGM ELEC | I108: Hộp | J108: =VLOOKUP(F108,Sheet2!$C$9:$H$673,6,0) -> 6 | K108: 6 | L108: 2214450 | M108: =L108*K108 -> 13286700 | N108: Hộp/ 16 x 0,67ml | O108: Roche Diagnostics GmbH, Germany | P108: Germany | Q108: Roche Diagnostics GmbH, Germany | R108: Germany | S108: 11876368122 | U108: KKG-0059-01794 | W108: 1
A109: A32494 | C109: KIẾN ĐỨC | D109: 123 | E109: Lô 4 | F109: HCTM-0123 | G109: Chất nội kiểm anti HAV | H109: 08086672190 PreciControl Anti-HAV II | I109: Hộp | J109: =VLOOKUP(F109,Sheet2!$C$9:$H$673,6,0) -> 6 | K109: 6 | L109: 2289000 | M109: =L109*K109 -> 13734000 | N109: 16 x 1.3 mL/hộp | O109: Roche Diagnostics GmbH, Germany | P109: Germany | Q109: Roche Diagnostics GmbH, Germany | R109: Germany | S109: 08086672190 | U109: KKG-0059-02115 | W109: 1
A110: B11056 | C110: KIẾN ĐỨC | D110: 124 | E110: Lô 4 | F110: HCTM-0124 | G110: Thuốc thử Anti-HBc | H110: 07374160190 Elecsys Anti-HBc II_100 | I110: Hộp | J110: =VLOOKUP(F110,Sheet2!$C$9:$H$673,6,0) -> 15 | K110: 15 | L110: 4195800 | M110: =L110*K110 -> 62937000 | N110: Hộp/ 100 tests | O110: Roche Diagnostics GmbH, Germany | P110: Germany | Q110: Roche Diagnostics GmbH, Germany | R110: Germany | S110: 07374160190 | U110: KKG-0059-01830 | W110: 1
A111: B11057 | C111: KIẾN ĐỨC | D111: 125 | E111: Lô 4 | F111: HCTM-0125 | G111: Anti-HBc IgM | H111: 11820567122 ANTI-HBC IGM ELEC | I111: Hộp | J111: =VLOOKUP(F111,Sheet2!$C$9:$H$673,6,0) -> 14 | K111: 14 | L111: 5827500 | M111: =L111*K111 -> 81585000 | N111: Hộp/ 100 tests | O111: Roche Diagnostics GmbH, Germany | P111: Germany | Q111: Roche Diagnostics GmbH, Germany | R111: Germany | S111: 11820567122 | U111: KKG-0059-01775 | W111: 1
A112: A32898 | C112: KIẾN ĐỨC | D112: 126 | E112: Lô 4 | F112: HCTM-0126 | G112: Chất nội kiểm Anti-HBc IgM | H112: 11876333122 PRECICTRL HBC IGM ELEC | I112: Hộp | J112: =VLOOKUP(F112,Sheet2!$C$9:$H$673,6,0) -> 8 | K112: 8 | L112: 2715615 | M112: =L112*K112 -> 21724920 | N112: Hộp/ 16 x 1ml | O112: Roche Diagnostics GmbH, Germany | P112: Germany | Q112: Roche Diagnostics GmbH, Germany | R112: Germany | S112: 11876333122 | U112: KKG-0059-01795 | W112: 1
A113: A36920 | C113: KIẾN ĐỨC | D113: 127 | E113: Lô 4 | F113: HCTM-0127 | G113: Hóa chất nội kiểm Anti HBc | H113: 04927931190 PreciControl Anti-HBc II | I113: Hộp | J113: =VLOOKUP(F113,Sheet2!$C$9:$H$673,6,0) -> 6 | K113: 6 | L113: 1631700 | M113: =L113*K113 -> 9790200 | N113: Hộp/ 16 x 1,3ml | O113: Roche Diagnostics GmbH, Germany | P113: Germany | Q113: Roche Diagnostics GmbH, Germany | R113: Germany | S113: 04927931190 | U113: KKG-0059-02435 | W113: 1
A114: A36097 | C114: KIẾN ĐỨC | D114: 128 | E114: Lô 4 | F114: HCTM-0128 | G114: Anti-HBe | H114: 11820613122 ANTI-HBE ELEC | I114: Hộp | J114: =VLOOKUP(F114,Sheet2!$C$9:$H$673,6,0) -> 40 | K114: 40 | L114: 4895100 | M114: =L114*K114 -> 195804000 | N114: Hộp/ 100 tests | O114: Roche Diagnostics GmbH, Germany | P114: Germany | Q114: Roche Diagnostics GmbH, Germany | R114: Germany | S114: 11820613122 | U114: KKG-0059-01749 | W114: 1
A115: A36098 | C115: KIẾN ĐỨC | D115: 129 | E115: Lô 4 | F115: HCTM-0129 | G115: Chất nội kiểm Anti-HBe | H115: 11876384122 PRECICTL ANTI-HBE | I115: Hộp | J115: =VLOOKUP(F115,Sheet2!$C$9:$H$673,6,0) -> 12 | K115: 12 | L115: 1165500 | M115: =L115*K115 -> 13986000 | N115: Hộp/ 16 x 1,3ml | O115: Roche Diagnostics GmbH, Germany | P115: Germany | Q115: Roche Diagnostics GmbH, Germany | R115: Germany | S115: 11876384122 | U115: KKG-0059-01796 | W115: 1
A116: A36100 | C116: KIẾN ĐỨC | D116: 130 | E116: Lô 4 | F116: HCTM-0130 | G116: Anti-HBs | H116: 08498598190 Elecsys Anti-HBs II 100T | I116: Hộp | J116: =VLOOKUP(F116,Sheet2!$C$9:$H$673,6,0) -> 75 | K116: 75 | L116: 2564100 | M116: =L116*K116 -> 192307500 | N116: Hộp/ 100 tests | O116: Roche Diagnostics GmbH, Germany | P116: Germany | Q116: Roche Diagnostics GmbH, Germany | R116: Germany | S116: 08498598190 | U116: KKG-0059-01849 | W116: 1
A117: A40702 | C117: KIẾN ĐỨC | D117: 131 | E117: Lô 4 | F117: HCTM-0131 | G117: Chất nội kiểm anti HBs | H117: 11876317122 PRECICTL ANTI-HBS ELEC | I117: Hộp | J117: =VLOOKUP(F117,Sheet2!$C$9:$H$673,6,0) -> 12 | K117: 12 | L117: 1631700 | M117: =L117*K117 -> 19580400 | N117: Hộp/ 16 x 1,3ml | O117: Roche Diagnostics GmbH, Germany | P117: Germany | Q117: Roche Diagnostics GmbH, Germany | R117: Germany | S117: 11876317122 | U117: KKG-0059-01797 | W117: 1
A118: A40703 | C118: KIẾN ĐỨC | D118: 132 | E118: Lô 4 | F118: HCTM-0132 | G118: Thuốc thử Anti HCV | H118: 06368921190 Anti-HCV G2 cobas e 100 | I118: Hộp | J118: =VLOOKUP(F118,Sheet2!$C$9:$H$673,6,0) -> 60 | K118: 60 | L118: 7226100 | M118: =L118*K118 -> 433566000 | N118: Hộp/ 100 tests | O118: Roche Diagnostics GmbH, Germany | P118: Germany | Q118: Roche Diagnostics GmbH, Germany | R118: Germany | S118: 06368921190 | U118: KKG-0059-01747 | W118: 1
A119: A40704 | C119: KIẾN ĐỨC | D119: 133 | E119: Lô 4 | F119: HCTM-0133 | G119: Hóa chất nội kiểm Anti HCV | H119: 03290379190 PRECICONTROL ANTI HCV CE | I119: Hộp | J119: =VLOOKUP(F119,Sheet2!$C$9:$H$673,6,0) -> 11 | K119: 11 | L119: 2214450 | M119: =L119*K119 -> 24358950 | N119: Hộp/ 16 x 1,3ml | O119: Roche Diagnostics GmbH, Germany | P119: Germany | Q119: Roche Diagnostics GmbH, Germany | R119: Germany | S119: 03290379190 | U119: KKG-0059-01798 | W119: 1
...

Sheet HC BO SUNG
A2: DANH MỤC CHI TIẾT VẬT TƯ HÓA CHẤT, THUỐC THỬ BỔ SUNG NĂM 2023
A4: STT | B4: Tên hàng hóa | C4: Đơn vị tính | D4: Số lượng yêu cầu | E4: Đơn giá | F4: Thành tiền | G4: Ghi chú
B5: HÓA CHẤT XÉT NGHIỆM MIỄN DỊCH | E5: NAM TRUNG
A6: 1 | B6: Alinity Trigger Solution | C6: Hộp | D6: 25 | E6: NAM TRUNG
A7: 2 | B7: Alinity Pre-Trigger Solution | C7: Hộp | D7: 10 | E7: NAM TRUNG
A8: 3 | B8: Alinity i-series Concentrated Wash Buffer | C8: Hộp | D8: 83 | E8: NAM TRUNG
A9: 4 | B9: Alinity i-series Probe Conditioning Solution | C9: Hộp | D9: 6 | E9: NAM TRUNG
A10: 5 | B10: Alinity Reaction Vessels | C10: Hộp | D10: 35 | E10: NAM TRUNG
A11: 6 | B11: Alinity i AFP Calibrators | C11: Hộp | D11: 4 | E11: NAM TRUNG
A12: 7 | B12: Alinity i AFP Reagent Kit | C12: Hộp | D12: 20 | E12: NAM TRUNG
A13: 8 | B13: Alinity i Anti-TPO Calibrators | C13: Hộp | D13: 1 | E13: NAM TRUNG
A14: 9 | B14: Alinity i Anti-TPO Reagent Kit | C14: Hộp | D14: 1 | E14: NAM TRUNG
A15: 10 | B15: Alinity i BNP Calibrators | C15: Hộp | D15: 4 | E15: NAM TRUNG
A16: 11 | B16: Alinity i BNP Controls | C16: Hộp | D16: 6 | E16: NAM TRUNG
A17: 12 | B17: Alinity i BNP Reagent Kit | C17: Hộp | D17: 17 | E17: NAM TRUNG
... A78: 73 | B78: Alinity i Anti-Tg Reagent Kit | C78: Hộp | D78: 1 | E78: NAM TRUNG
B79: HÓA CHẤT THUỐC THỬ NỘI KIỂM - NGOẠI KIỂM | E79: TRẦN DANH
A80: 1 | B80: RIQAS Monthly Haematology (Haematology Programme) (Chương trình Ngoại kiểm Riqas Huyết Học) | C80: Hộp/3 x 2 ml | D80: 6 | E80: TRẦN DANH
A81: 2 | B81: RIQAS Monthly General Clinical Chemistry Programme (Chương trình Ngoại kiểm Riqas Sinh Hóa) | C81: Hộp/6 x 5 ml | D81: 10 | E81: TRẦN DANH
A82: 3 | B82: RIQAS Monthly Immunoassay Programme (Chương trình Ngoại kiểm Riqas Miễn Dịch) | C82: Hộp/6 x 5 ml | D82: 6 | E82: TRẦN DANH
A83: 4 | B83: RIQAS Glycated Haemoglobin (HbA1c) Programme (Chương trình Ngoại kiểm Riqas HbA1c) | C83: Hộp/6 x 0.5 ml | D83: 6 | E83: TRẦN DANH
A84: 5 | B84: RIQAS Coagulation (Coagulation Programme) (Chương trình Ngoại kiểm Riqas Đông Máu) | C84: Hộp/6 x 1 ml | D84: 6 | E84: TRẦN DANH
A85: 6 | B85: RIQAS Blood Gas (Chương trình Ngoại kiểm Riqas Khí Máu) | C85: Hộp/6 x 1.8 ml | D85: 6 | E85: TRẦN DANH
A86: 7 | B86: RIQAS Monthly Cardiac Plus Programme (Chương trình Ngoại kiểm Riqas Tim Mạch) | C86: Hộp/6 x 3 ml | D86: 6 | E86: TRẦN DANH
A87: 8 | B87: RIQAS ESR (ESR Programme) (Chương trình Ngoại kiểm Riqas Tốc Độ Máu Lắng) | C87: Hộp/2 x 4.5 ml | D87: 6 | E87: TRẦN DANH
A88: 9 | B88: RIQAS Ammonia/Ethanol Programme (Chương trình Ngoại kiểm Riqas Ammonia/Ethanol) | C88: Hộp/6 x 2 ml | D88: 10 | E88: TRẦN DANH
A89: 10 | B89: RIQAS Serology (HIV/Hepatitis) Programme (Chương trình Ngoại kiểm Riqas HIV/Viêm Gan) | C89: Hộp/12 x 1.8 ml | D89: 6 | E89: TRẦN DANH
A90: 11 | B90: RIQAS Serology (Syphilis) Programme (Chương trình Ngoại kiểm Riqas Giang Mai) | C90: Hộp/ 6 x 1 ml | D90: 6 | E90: TRẦN DANH
A91: 12 | B91: RIQAS Immunoassay Speciality I Programme (Chương trình Ngoại kiểm Riqas Miễn Dịch Đặc Biệt I) | C91: Hộp/6 x 2 ml | D91: 6 | E91: TRẦN DANH
... A118: 39 | B118: Calibbration Serum Level 3 (CAL 3) (Calib Sinh hóa mức 3) | C118: Hộp | D118: 2 | E118: TRẦN DANH
B119: HÓA CHẤT XÉT NGHIỆM SINH HỌC PHÂN TỬ - MIỄN DỊCH | E119: KIẾN ĐỨC
A120: 1 | B120: Đơn vị xử lý mẫu | C120: Thùng/ 12x24 pcs | D120: 25 | E120: KIẾN ĐỨC
A121: 2 | B121: Đơn vị chứa mẫu | C121: Thùng/ 12x24 pcs | D121: 30 | E121: KIẾN ĐỨC
A122: 3 | B122: Ống chứa mẫu phẩm đã chuẩn bị | C122: Thùng/ 12x96 pcs | D122: 10 | E122: KIẾN ĐỨC
A123: 4 | B123: Đầu côn trộn đều và chuyển mẫu | C123: Thùng/ 12x36 pcs | D123: 20 | E123: KIẾN ĐỨC
A124: 5 | B124: Nước rửa sử dụng cho hóa chất định lượng virut, thể tích 5.1L | C124: Hộp/ 5,1lit | D124: 120 | E124: KIẾN ĐỨC
A125: 6 | B125: Hóa chất đo tải lượng virut HCV theo phương pháp RT-PCR tự động, 72 test | C125: Thùng/ 72 tests | D125: 30 | E125: KIẾN ĐỨC
A126: 7 | B126: Hóa chất đo tải lượng virut viêm gan B theo phương pháp RT-PCR tự động, 72 test | C126: Thùng/ 72 tests | D126: 70 | E126: KIẾN ĐỨC
A127: 8 | B127: Bộ xét nghiệm gen ung thư EGFR | C127: Hộp /24 Test | D127: 20 | E127: KIẾN ĐỨC
A128: 9 | B128: Đĩa chứa ống thuốc thử bằng nhựa | C128: Hộp /50 Cái | D128: 5 | E128: KIẾN ĐỨC
A129: 10 | B129: Bộ hóa chất dùng tách chiết cfDNA từ mẫu huyết tương phục vụ xét nghiệm đột biến EGFR theo phương pháp Real-time PCR. Đóng gói 24 test/ hộp | C129: Hộp /24 Test | D129: 5 | E129: KIẾN ĐỨC
A130: 11 | B130: Bộ hóa chất dùng tách chiết DNA từ mẫu mô phục vụ xét nghiệm đột biến EGFR theo phương pháp Real-time PCR. Đóng gói 24 test/ hộp | C130: Hộp /24 Test | D130: 20 | E130: KIẾN ĐỨC
A131: 12 | B131: Bộ xét nghiệm gen ung thư PIK3CA | C131: Hộp /24 Test | D131: 20 | E131: KIẾN ĐỨC
... A136: 17 | B136: Elecsys Troponin T hs CS | C136: Hộp/4 x 1.0 mL | D136: 10 | E136: KIẾN ĐỨC
B137: HÓA CHẤT CHẠY MÁY XÉT NGHIỆM Realtime-PCR | E137: BIO-TECH
A138: 1 | B138: Abbott RealTime HBV Amplification Reagent Kit | C138: hộp | D138: 42 | E138: BIO-TECH
A139: 2 | B139: Abbott RealTime HBV Control Kit | C139: hộp | D139: 11 | E139: BIO-TECH
A140: 3 | B140: Abbott RealTime HBV Calibrator Kit | C140: hộp | D140: 3 | E140: BIO-TECH
A141: 4 | B141: Abbott RealTime HCV Amplification Reagent Kit | C141: hộp | D141: 13 | E141: BIO-TECH
A142: 5 | B142: Abbott RealTime HCV Control Kit | C142: hộp | D142: 4 | E142: BIO-TECH
A143: 6 | B143: Abbott RealTime HCV Calibrator Kit | C143: hộp | D143: 3 | E143: BIO-TECH
A144: 7 | B144: mSystems 1000µl Pipette Tips | C144: hộp | D144: 36 | E144: BIO-TECH
A145: 8 | B145: mSystems 200µl Pipette Tips | C145: hộp | D145: 3 | E145: BIO-TECH
A146: 9 | B146: MasterMix Tubes | C146: hộp | D146: 2 | E146: BIO-TECH
A147: 10 | B147: 96 Deep Well Plates | C147: thùng | D147: 8 | E147: BIO-TECH
A148: 11 | B148: 5mL Reaction Vessel | C148: thùng | D148: 4 | E148: BIO-TECH
A149: 12 | B149: 200 mL Reagent Vessels | C149: thùng | D149: 8 | E149: BIO-TECH
... A154: 17 | B154: Abbott Proteinase K, Recombinant, PCR Grade | C154: hộp | D154: 21 | E154: BIO-TECH
